BEGIN:VCALENDAR
VERSION:2.0
PRODID:-//carboncountydepotgallery.org//NONSGML kigkonsult.se iCalcreator 2
 .30.10//
CALSCALE:GREGORIAN
METHOD:PUBLISH
UID:f0773006-a148-4af0-859c-24a23e3e8fc9
X-WR-CALDESC:Certified Zentangle® instructor Anita Jones will introduce art
 ists to the Zentangle® method of drawing. The Zentangle® Method is an appr
 oach to art designed to help individuals build their focus and create moti
 fs. The vocabulary and tools used in Zentangle are meant to help anyone cr
 eate beautiful works of art in a calm and mindful manner.\n\nThis class sp
 ecifically will provide learners with the basics of Zentangle® by making t
 heir own Zentangle® tiles. Class participants will then apply their new fo
 und Zentangle® techniques to develop holiday ornaments.\n\nBring a sack lu
 nch. Cost is $70\; $65 for Guild members.\nTake home official Zentangle® t
 ool kit included: Micron Pen\, Gold Gel Pen\, Pastel Pencils\, Graphite Pe
 ncil\, Tortillion\, Zentangle® Tiles and Ornaments\, plus drawstring tool 
 bags and other accessories.
X-WR-RELCALID:9da1a8d863b35e999e0982d203dbe7b8
X-WR-TIMEZONE:America/Denver
BEGIN:VTIMEZONE
TZID:America/Denver
BEGIN:STANDARD
TZNAME:MST
DTSTART:20231105T020000
TZOFFSETFROM:-0600
TZOFFSETTO:-0700
RDATE:20241103T020000
END:STANDARD
BEGIN:DAYLIGHT
TZNAME:MDT
DTSTART:20230312T020000
TZOFFSETFROM:-0700
TZOFFSETTO:-0600
RDATE:20240310T020000
RDATE:20250309T020000
END:DAYLIGHT
END:VTIMEZONE
BEGIN:VEVENT
UID:9c0accb9-c94c-41bb-8b8c-dca080ad0ba2
DTSTAMP:20260419T150904Z
DESCRIPTION:Certified Zentangle® instructor Anita Jones will introduce arti
 sts to the Zentangle® method of drawing. The Zentangle® Method is an appro
 ach to art designed to help individuals build their focus and create motif
 s. The vocabulary and tools used in Zentangle are meant to help anyone cre
 ate beautiful works of art in a calm and mindful manner.\n\nThis class spe
 cifically will provide learners with the basics of Zentangle® by making th
 eir own Zentangle® tiles. Class participants will then apply their new fou
 nd Zentangle® techniques to develop holiday ornaments.\n\nBring a sack lun
 ch. Cost is $70\; $65 for Guild members.\nTake home official Zentangle® to
 ol kit included: Micron Pen\, Gold Gel Pen\, Pastel Pencils\, Graphite Pen
 cil\, Tortillion\, Zentangle® Tiles and Ornaments\, plus drawstring tool b
 ags and other accessories.
DTSTART;TZID=America/Denver:20231216T100000
DTEND;TZID=America/Denver:20231216T150000
LOCATION:
SUMMARY:Introduction to Zentangle®
END:VEVENT
END:VCALENDAR
