BEGIN:VCALENDAR
VERSION:2.0
PRODID:-//carboncountydepotgallery.org//NONSGML kigkonsult.se iCalcreator 2
 .30.10//
CALSCALE:GREGORIAN
METHOD:PUBLISH
UID:b7f92e6e-9440-4fb4-a022-f5a6b87b897f
X-WR-CALDESC:Want to try something new? or experiment with new media? or ju
 st have a little creative fun? Then Creative Jump Start is for you! Every 
 three weeks from Monday\, January 8th through Monday\, April 22\, we will 
 offer a drop-in introductory class that will explore a different media by 
 creating small works.\n\nCreating Values is the first in the series. We wi
 ll be experimenting with new ways to create value. We will look at stippli
 ng\, scumbling and more. Come join in the fun and get inspired!\n\n$5 for 
 members\, $10 for non-members.\nNo registration required\, but RSVP apprec
 iated!
X-WR-RELCALID:779da54455afd804968e86c6019ad90c
X-WR-TIMEZONE:America/Denver
BEGIN:VTIMEZONE
TZID:America/Denver
BEGIN:STANDARD
TZNAME:MST
DTSTART:20231105T020000
TZOFFSETFROM:-0600
TZOFFSETTO:-0700
RDATE:20241103T020000
END:STANDARD
BEGIN:DAYLIGHT
TZNAME:MDT
DTSTART:20230312T020000
TZOFFSETFROM:-0700
TZOFFSETTO:-0600
RDATE:20240310T020000
RDATE:20250309T020000
END:DAYLIGHT
END:VTIMEZONE
BEGIN:VEVENT
UID:afe111c1-63ef-48cd-b48e-49ecaa4d470a
DTSTAMP:20260419T132321Z
DESCRIPTION:Want to try something new? or experiment with new media? or jus
 t have a little creative fun? Then Creative Jump Start is for you! Every t
 hree weeks from Monday\, January 8th through Monday\, April 22\, we will o
 ffer a drop-in introductory class that will explore a different media by c
 reating small works.\n\nCreating Values is the first in the series. We wil
 l be experimenting with new ways to create value. We will look at stipplin
 g\, scumbling and more. Come join in the fun and get inspired!\n\n$5 for m
 embers\, $10 for non-members.\nNo registration required\, but RSVP appreci
 ated!
DTSTART;TZID=America/Denver:20240108T100000
DTEND;TZID=America/Denver:20240108T113000
LOCATION:11 West 8th Street\, Red Lodge\, MT 59068 US
SUMMARY:Creative Jump Start: Creating Value
END:VEVENT
END:VCALENDAR
