BEGIN:VCALENDAR
VERSION:2.0
PRODID:-//carboncountydepotgallery.org//NONSGML kigkonsult.se iCalcreator 2
 .30.10//
CALSCALE:GREGORIAN
METHOD:PUBLISH
UID:43f5cd95-01b8-4d38-8eb3-a14d9e691cff
X-WR-CALDESC:Join instructor Kathy Mills to learn how to pour fluid acrylic
  paint on canvas to create a flowing design. Learn several techniques to c
 reate your own unique art!\n\nAll supplies included.\n$40 for members\, $4
 5 for non-members.
X-WR-RELCALID:287a84d0345153711a5b0ca219c7873b
X-WR-TIMEZONE:America/Denver
BEGIN:VTIMEZONE
TZID:America/Denver
BEGIN:STANDARD
TZNAME:MST
DTSTART:20231105T020000
TZOFFSETFROM:-0600
TZOFFSETTO:-0700
RDATE:20241103T020000
END:STANDARD
BEGIN:DAYLIGHT
TZNAME:MDT
DTSTART:20230312T020000
TZOFFSETFROM:-0700
TZOFFSETTO:-0600
RDATE:20240310T020000
RDATE:20250309T020000
END:DAYLIGHT
END:VTIMEZONE
BEGIN:VEVENT
UID:4ac00695-6edd-4bcc-ab93-ece3565540d9
DTSTAMP:20260419T151403Z
DESCRIPTION:Join instructor Kathy Mills to learn how to pour fluid acrylic 
 paint on canvas to create a flowing design. Learn several techniques to cr
 eate your own unique art!\n\nAll supplies included.\n$40 for members\, $45
  for non-members.
DTSTART;TZID=America/Denver:20240117T130000
DTEND;TZID=America/Denver:20240119T150000
LOCATION:Carbon County Depot Gallery
SUMMARY:Pour Painting for Beginners
END:VEVENT
END:VCALENDAR
