BEGIN:VCALENDAR
VERSION:2.0
PRODID:-//carboncountydepotgallery.org//NONSGML kigkonsult.se iCalcreator 2
 .30.10//
CALSCALE:GREGORIAN
METHOD:PUBLISH
UID:2cb90003-d925-4451-b599-86802ccc8ccc
X-WR-CALDESC:Certified Zentangle® instructor Anita Jones will continue to i
 nstruct participants in the Zentangle® method of drawing. The Zentangle® M
 ethod is an approach to art designed to help individuals build their focus
  and create motifs. The vocabulary and tools used in Zentangle are meant t
 o help anyone create beautiful works of art in a calm and mindful manner.
 \n\nThis workshop is part of an on-going series\, but participants can joi
 n at any session. \n\n\nBring a sack lunch. Cost is $50\; $40 for Guild me
 mbers.\n\nNew participants will need to purchase a tool kit\, which includ
 es Micron Pens\, Pastel Pencils\, Tortillion\, Zentangle® Tiles and Orname
 nts\, plus drawstring tool bags and other accessories. This kit is yours t
 o keep!
X-WR-RELCALID:8e2583913ad8a193c4172259994a5e86
X-WR-TIMEZONE:America/Denver
BEGIN:VTIMEZONE
TZID:America/Denver
BEGIN:STANDARD
TZNAME:MST
DTSTART:20231105T020000
TZOFFSETFROM:-0600
TZOFFSETTO:-0700
RDATE:20241103T020000
END:STANDARD
BEGIN:DAYLIGHT
TZNAME:MDT
DTSTART:20230312T020000
TZOFFSETFROM:-0700
TZOFFSETTO:-0600
RDATE:20240310T020000
RDATE:20250309T020000
END:DAYLIGHT
END:VTIMEZONE
BEGIN:VEVENT
UID:82e8ca9a-e0a1-48d9-8a00-0d4cb3c2c185
DTSTAMP:20260419T132327Z
DESCRIPTION:Certified Zentangle® instructor Anita Jones will continue to in
 struct participants in the Zentangle® method of drawing. The Zentangle® Me
 thod is an approach to art designed to help individuals build their focus 
 and create motifs. The vocabulary and tools used in Zentangle are meant to
  help anyone create beautiful works of art in a calm and mindful manner.\n
 \nThis workshop is part of an on-going series\, but participants can join 
 at any session. \n\n\nBring a sack lunch. Cost is $50\; $40 for Guild memb
 ers.\n\nNew participants will need to purchase a tool kit\, which includes
  Micron Pens\, Pastel Pencils\, Tortillion\, Zentangle® Tiles and Ornament
 s\, plus drawstring tool bags and other accessories. This kit is yours to 
 keep!
DTSTART;TZID=America/Denver:20240127T100000
DTEND;TZID=America/Denver:20240127T150000
LOCATION:
SUMMARY:Zentangle®
END:VEVENT
END:VCALENDAR
