BEGIN:VCALENDAR
VERSION:2.0
PRODID:-//carboncountydepotgallery.org//NONSGML kigkonsult.se iCalcreator 2
 .30.10//
CALSCALE:GREGORIAN
METHOD:PUBLISH
UID:b3d6a13a-8b99-4868-8290-aad729fb5c30
X-WR-CALDESC:Want to try something new? or experiment with new media? or ju
 st have a little creative fun? Then Creative Jump Start is for you! Every 
 three weeks from Monday\, January 8th through Monday\, April 22\, we will 
 offer a drop-in introductory class that will explore a different media by 
 creating small works.\n\nGyotaku is the second in the series. We will be i
 nspired by the ancient art of Gyotaku -- fish printing. We will make print
 s and embellish into works of art!\n\n$5 for members\, $10 for non-members
 .\nNo registration required\, but RSVP appreciated!
X-WR-RELCALID:85cff86c980969cc8ae1235f0a9d5839
X-WR-TIMEZONE:America/Denver
BEGIN:VTIMEZONE
TZID:America/Denver
BEGIN:STANDARD
TZNAME:MST
DTSTART:20231105T020000
TZOFFSETFROM:-0600
TZOFFSETTO:-0700
RDATE:20241103T020000
END:STANDARD
BEGIN:DAYLIGHT
TZNAME:MDT
DTSTART:20230312T020000
TZOFFSETFROM:-0700
TZOFFSETTO:-0600
RDATE:20240310T020000
RDATE:20250309T020000
END:DAYLIGHT
END:VTIMEZONE
BEGIN:VEVENT
UID:e416608c-7b17-4335-bb95-29b56c6029e9
DTSTAMP:20260419T132617Z
DESCRIPTION:Want to try something new? or experiment with new media? or jus
 t have a little creative fun? Then Creative Jump Start is for you! Every t
 hree weeks from Monday\, January 8th through Monday\, April 22\, we will o
 ffer a drop-in introductory class that will explore a different media by c
 reating small works.\n\nGyotaku is the second in the series. We will be in
 spired by the ancient art of Gyotaku -- fish printing. We will make prints
  and embellish into works of art!\n\n$5 for members\, $10 for non-members.
 \nNo registration required\, but RSVP appreciated!
DTSTART;TZID=America/Denver:20240129T100000
DTEND;TZID=America/Denver:20240129T113000
LOCATION:11 West 8th Street\, Red Lodge\, MT 59068 US
SUMMARY:Creative Jump Start: Gyotaku
END:VEVENT
END:VCALENDAR
