BEGIN:VCALENDAR
VERSION:2.0
PRODID:-//carboncountydepotgallery.org//NONSGML kigkonsult.se iCalcreator 2
 .30.10//
CALSCALE:GREGORIAN
METHOD:PUBLISH
UID:6d484e5b-eded-4f1c-84b8-56b6cc62b226
X-WR-CALDESC:Marie Shirley Jones lives in Red Lodge\, Montana. After retiri
 ng from teaching K-8 art in Red Lodge she now focuses more on her fiber ar
 t passion. About her work she says\, 'I’ve always made fabric my medium of
  choice\, and have explored a broad range of techniques and fibers. Learni
 ng new processes\, and teaching the ones I’m familiar with\, gives me grea
 t pleasure.'\n\nPrograms in conjunction with this exhibition will be sched
 uled for February. Check our Event Calendar for updates and details or con
 tact the Education and Programs Coordinator.
X-WR-RELCALID:595012acc3a6edc1ab4d7803c124b15a
X-WR-TIMEZONE:America/Denver
BEGIN:VTIMEZONE
TZID:America/Denver
BEGIN:STANDARD
TZNAME:MST
DTSTART:20231105T020000
TZOFFSETFROM:-0600
TZOFFSETTO:-0700
RDATE:20241103T020000
END:STANDARD
BEGIN:DAYLIGHT
TZNAME:MDT
DTSTART:20230312T020000
TZOFFSETFROM:-0700
TZOFFSETTO:-0600
RDATE:20240310T020000
RDATE:20250309T020000
END:DAYLIGHT
END:VTIMEZONE
BEGIN:VEVENT
UID:826b7fc0-ea6d-4340-aca7-4b28b3a1fabb
DTSTAMP:20260419T132809Z
DESCRIPTION:Marie Shirley Jones lives in Red Lodge\, Montana. After retirin
 g from teaching K-8 art in Red Lodge she now focuses more on her fiber art
  passion. About her work she says\, 'I’ve always made fabric my medium of 
 choice\, and have explored a broad range of techniques and fibers. Learnin
 g new processes\, and teaching the ones I’m familiar with\, gives me great
  pleasure.'\n\nPrograms in conjunction with this exhibition will be schedu
 led for February. Check our Event Calendar for updates and details or cont
 act the Education and Programs Coordinator.
DTSTART;TZID=America/Denver:20240107T040000
DTEND;TZID=America/Denver:20240224T040001
LOCATION:
SUMMARY:Art Quilts by Marie Shirley Jones
END:VEVENT
END:VCALENDAR
