BEGIN:VCALENDAR
VERSION:2.0
PRODID:-//carboncountydepotgallery.org//NONSGML kigkonsult.se iCalcreator 2
 .30.10//
CALSCALE:GREGORIAN
METHOD:PUBLISH
UID:f65e8975-7fd1-43f6-becd-16be7df30c45
X-WR-CALDESC:Learn several unique fabric dyeing methods with instructor Mar
 ie Shirley-Jones. Student will create a 4-piece placemat set using a varie
 ty of techniques.
X-WR-RELCALID:14f592c7f367879634682fbea19fcf9f
X-WR-TIMEZONE:America/Denver
BEGIN:VTIMEZONE
TZID:America/Denver
BEGIN:STANDARD
TZNAME:MST
DTSTART:20231105T020000
TZOFFSETFROM:-0600
TZOFFSETTO:-0700
RDATE:20241103T020000
END:STANDARD
BEGIN:DAYLIGHT
TZNAME:MDT
DTSTART:20230312T020000
TZOFFSETFROM:-0700
TZOFFSETTO:-0600
RDATE:20240310T020000
RDATE:20250309T020000
END:DAYLIGHT
END:VTIMEZONE
BEGIN:VEVENT
UID:3b7978fd-625e-4b83-b6f8-55d60665738d
DTSTAMP:20260419T150542Z
DESCRIPTION:Learn several unique fabric dyeing methods with instructor Mari
 e Shirley-Jones. Student will create a 4-piece placemat set using a variet
 y of techniques.
DTSTART;TZID=America/Denver:20240210T100000
DTEND;TZID=America/Denver:20240210T150000
LOCATION:11 West 8th Street\, Red Lodge\, MT 59068 US
SUMMARY:Fabric Dyeing
END:VEVENT
END:VCALENDAR
