BEGIN:VCALENDAR
VERSION:2.0
PRODID:-//carboncountydepotgallery.org//NONSGML kigkonsult.se iCalcreator 2
 .30.10//
CALSCALE:GREGORIAN
METHOD:PUBLISH
UID:c8d33bee-9b92-4bdd-b844-72d198dc215c
X-WR-CALDESC:*** class is full *** if you want to be added to the wait list
  please call 446-1370 ***\nThis is not your Grandma's Quilting! Create you
 r own fiber art piece with instructor Marie Shirley-Jones. Learn a variety
  of embellishment techniques to create your own unique stitched artwork. N
 o experience necessary\, for beginners or experienced artists alike. All s
 upplies provided. Please bring a lunch.
X-WR-RELCALID:ceaa5e4a3404cf93c7e89b49194baff4
X-WR-TIMEZONE:America/Denver
BEGIN:VTIMEZONE
TZID:America/Denver
BEGIN:STANDARD
TZNAME:MST
DTSTART:20231105T020000
TZOFFSETFROM:-0600
TZOFFSETTO:-0700
RDATE:20241103T020000
END:STANDARD
BEGIN:DAYLIGHT
TZNAME:MDT
DTSTART:20230312T020000
TZOFFSETFROM:-0700
TZOFFSETTO:-0600
RDATE:20240310T020000
RDATE:20250309T020000
END:DAYLIGHT
END:VTIMEZONE
BEGIN:VEVENT
UID:3b1e7054-2514-4356-ac93-61c35a23389d
DTSTAMP:20260419T151017Z
DESCRIPTION:*** class is full *** if you want to be added to the wait list 
 please call 446-1370 ***\nThis is not your Grandma's Quilting! Create your
  own fiber art piece with instructor Marie Shirley-Jones. Learn a variety 
 of embellishment techniques to create your own unique stitched artwork. No
  experience necessary\, for beginners or experienced artists alike. All su
 pplies provided. Please bring a lunch.
DTSTART;TZID=America/Denver:20240217T100000
DTEND;TZID=America/Denver:20240217T150000
LOCATION:11 West 8th Street\, Red Lodge\, MT 59068 US
SUMMARY:Art Quilting - class is full
END:VEVENT
END:VCALENDAR
