BEGIN:VCALENDAR
VERSION:2.0
PRODID:-//carboncountydepotgallery.org//NONSGML kigkonsult.se iCalcreator 2
 .30.10//
CALSCALE:GREGORIAN
METHOD:PUBLISH
UID:91be6cd5-ae97-47bc-be72-b1b6130c2f24
X-WR-CALDESC:Want to try something new? or experiment with new media? or ju
 st have a little creative fun? Then Creative Jump Start is for you! Every 
 three weeks from Monday\, January 8th through Monday\, April 22\, we will 
 offer a drop-in introductory class that will explore a different media by 
 creating small works.\n\nScratchboard is the third in the series. Create t
 exture and value with only a sharp point and specially coated paper. Come 
 join in the fun and get inspired!\n\n$5 for members\, $10 for non-members.
 \nNo registration required\, but RSVP appreciated!
X-WR-RELCALID:f83d79099c619a49fe049bfdf31e5daa
X-WR-TIMEZONE:America/Denver
BEGIN:VTIMEZONE
TZID:America/Denver
BEGIN:STANDARD
TZNAME:MST
DTSTART:20231105T020000
TZOFFSETFROM:-0600
TZOFFSETTO:-0700
RDATE:20241103T020000
END:STANDARD
BEGIN:DAYLIGHT
TZNAME:MDT
DTSTART:20230312T020000
TZOFFSETFROM:-0700
TZOFFSETTO:-0600
RDATE:20240310T020000
RDATE:20250309T020000
END:DAYLIGHT
END:VTIMEZONE
BEGIN:VEVENT
UID:c7fd5454-9b1d-4cf6-9fc2-264dd4fa3d36
DTSTAMP:20260419T150710Z
DESCRIPTION:Want to try something new? or experiment with new media? or jus
 t have a little creative fun? Then Creative Jump Start is for you! Every t
 hree weeks from Monday\, January 8th through Monday\, April 22\, we will o
 ffer a drop-in introductory class that will explore a different media by c
 reating small works.\n\nScratchboard is the third in the series. Create te
 xture and value with only a sharp point and specially coated paper. Come j
 oin in the fun and get inspired!\n\n$5 for members\, $10 for non-members.
 \nNo registration required\, but RSVP appreciated!
DTSTART;TZID=America/Denver:20240219T100000
DTEND;TZID=America/Denver:20240219T113000
LOCATION:11 West 8th Street\, Red Lodge\, MT 59068 US
SUMMARY:Creative Jump Start: Scratchboard
END:VEVENT
END:VCALENDAR
