BEGIN:VCALENDAR
VERSION:2.0
PRODID:-//carboncountydepotgallery.org//NONSGML kigkonsult.se iCalcreator 2
 .30.10//
CALSCALE:GREGORIAN
METHOD:PUBLISH
UID:fe95251d-e8e2-491c-af0a-2a2e49ed6992
X-WR-CALDESC:Dingbatz are a fun and easy way to incorporate the fundamental
 s of Zentangle(R) into a wide variety of creative projects and bring atten
 tion and mindfulness to the smallest corners of your life.\n\nUse Dingbatz
  to add flair to whatever you're working on—they provide a wonderful compl
 ement to any hand lettering\, scrapbook\, or art journaling project.\n\nSm
 all enough to provide a sense of instant gratification when you make them\
 , these 'Zenbellishments' require few materials\, making them accessible t
 o all skill levels from beginner to advanced.\n\nThe Zentangle Method is a
 n easy-to-learn\, relaxing\, and fun way to create beautiful images by dra
 wing structured patterns. We call these patterns\, tangles. You create tan
 gles with combinations of dots\, lines\, simple curves\, S-curves and orbs
 .
X-WR-RELCALID:6de060c2cda92d238340035198b056c6
X-WR-TIMEZONE:America/Denver
BEGIN:VTIMEZONE
TZID:America/Denver
BEGIN:STANDARD
TZNAME:MST
DTSTART:20231105T020000
TZOFFSETFROM:-0600
TZOFFSETTO:-0700
RDATE:20241103T020000
END:STANDARD
BEGIN:DAYLIGHT
TZNAME:MDT
DTSTART:20240310T020000
TZOFFSETFROM:-0700
TZOFFSETTO:-0600
RDATE:20250309T020000
END:DAYLIGHT
END:VTIMEZONE
BEGIN:VEVENT
UID:cf86394f-f792-4cf3-b9b6-98501a719d09
DTSTAMP:20260419T164413Z
DESCRIPTION:Dingbatz are a fun and easy way to incorporate the fundamentals
  of Zentangle(R) into a wide variety of creative projects and bring attent
 ion and mindfulness to the smallest corners of your life.\n\nUse Dingbatz 
 to add flair to whatever you're working on—they provide a wonderful comple
 ment to any hand lettering\, scrapbook\, or art journaling project.\n\nSma
 ll enough to provide a sense of instant gratification when you make them\,
  these 'Zenbellishments' require few materials\, making them accessible to
  all skill levels from beginner to advanced.\n\nThe Zentangle Method is an
  easy-to-learn\, relaxing\, and fun way to create beautiful images by draw
 ing structured patterns. We call these patterns\, tangles. You create tang
 les with combinations of dots\, lines\, simple curves\, S-curves and orbs.
DTSTART;TZID=America/Denver:20240324T130000
DTEND;TZID=America/Denver:20240324T160000
LOCATION:
SUMMARY:Zentangle Dingbatz
END:VEVENT
END:VCALENDAR
