BEGIN:VCALENDAR
VERSION:2.0
PRODID:-//carboncountydepotgallery.org//NONSGML kigkonsult.se iCalcreator 2
 .30.10//
CALSCALE:GREGORIAN
METHOD:PUBLISH
UID:e9a918af-afa2-4d94-af3c-f5bfb0157b7f
X-WR-CALDESC:The Rocky Mountain Regional Juried Exhibition is organized by 
 the Carbon County Arts Guild & Depot Gallery. Art selected for the exhibit
 ion is on view March 1-30\, 2024 in the main and north gallery. \n\nThe op
 ening reception is 3-5 p.m.\, Saturday\, March 9 with the announcement of 
 1st\, 2nd\, and 3rd place winners for sculpture and 2-dimensional work at 
 4 p.m. Artists participating in this exhibition include Abby Lindstrom Kin
 g\, Maggie Bassett\, Joanne Bornong\, Teresa Brown\, Richard Burke\, Barba
 ra Butler\, Kathy Davies\, JC Dye\, Michelle Ellen\, Thomas English\, Meli
 ssa Getz\, Diane Greenwood\, Eleanor Guerrero\, Carol Hartman\, Connie Her
 berg\, Kathi Holzer\, Kathleen Houseman\, Betina Johnson\, Willis Johnson\
 , KC Kern\, Michael Koski\, Tess Lehman\, Reagan Linde\, Barbara Lunger-Sw
 itzenberg\, Brian Maly\, Suz Matthews\, Joanna McCoy\, Judith McMurray\, M
 ike McRann\, Barbara Mitchell\, Leigh Morrison\, Lindi OBrien\, Pat Olding
 \, Kate Oltmann\, Susan Owens\, Karen Petrovich\, John Potter\, Janet Rawl
 ings\, Stephanie Rose\, Lynn Shield\, Scott Snarr\, Judy Sprague\, Jessie 
 Swimeley\, Lou Taylor\, Robert Tompkins\, Dorci Newman Tremblay\, James Vi
 ncent\, BR Walker\, Shirle Wempner\, Victoria Wetsch\, Charlene Anne Wilso
 n\, Ryan Wise\, Tom Wolfe and Dana Zier.\n\n\nThe juror for the 2024 RMRJE
  is Bonnie Zahn Griffith. A painter and educator\, Griffith paints on loca
 tion throughout the US and teaches workshops on plein air techniques and t
 he art of pastel painting. Griffith’s work has been included in the 2019 a
 nd 2020 Timeless Legacy – Women Artists of Glacier Park invitational exhib
 ition featuring work by 25 nationally renowned women artists at the Hockad
 ay Museum of Art in Kalispell\, Montana.\n\nA special thanks goes out to t
 he 2024 Rocky Mountain Regional Juried Exhibition sponsor\, the Red Lodge 
 Area Community Foundation. We also thank the Roosevelt Center's donation f
 or the cash awards given to the 1st Place sculpture and 1st Place two-dime
 nsional artists. \n\nThis exhibition is organized by the Carbon County Art
 s Guild & Depot Gallery which is supported in part by grants from the Mont
 ana Arts Council\, the Coal Tax Trust Fund for Cultural and Aesthetic Proj
 ects\, and the National Endowment for the Arts. \n\nThe Carbon County Arts
  Guild & Depot Gallery provides access to art\, supports artistic expressi
 on\, and encourages creative experiences for the enrichment of our communi
 ties. \n\nFor more information visit www.carboncountydepotgallery.org or c
 all (406) 446-1370. \n
X-WR-RELCALID:607f0afa1d30e0e2880cf140f3ab5ece
X-WR-TIMEZONE:America/Denver
BEGIN:VTIMEZONE
TZID:America/Denver
BEGIN:STANDARD
TZNAME:MST
DTSTART:20231105T020000
TZOFFSETFROM:-0600
TZOFFSETTO:-0700
RDATE:20241103T020000
END:STANDARD
BEGIN:DAYLIGHT
TZNAME:MDT
DTSTART:20230312T020000
TZOFFSETFROM:-0700
TZOFFSETTO:-0600
RDATE:20240310T020000
RDATE:20250309T020000
END:DAYLIGHT
END:VTIMEZONE
BEGIN:VEVENT
UID:0f9dc3af-ce00-4c29-8ce2-0426f2039d23
DTSTAMP:20260419T164305Z
DESCRIPTION:The Rocky Mountain Regional Juried Exhibition is organized by t
 he Carbon County Arts Guild & Depot Gallery. Art selected for the exhibiti
 on is on view March 1-30\, 2024 in the main and north gallery. \n\nThe ope
 ning reception is 3-5 p.m.\, Saturday\, March 9 with the announcement of 1
 st\, 2nd\, and 3rd place winners for sculpture and 2-dimensional work at 4
  p.m. Artists participating in this exhibition include Abby Lindstrom King
 \, Maggie Bassett\, Joanne Bornong\, Teresa Brown\, Richard Burke\, Barbar
 a Butler\, Kathy Davies\, JC Dye\, Michelle Ellen\, Thomas English\, Melis
 sa Getz\, Diane Greenwood\, Eleanor Guerrero\, Carol Hartman\, Connie Herb
 erg\, Kathi Holzer\, Kathleen Houseman\, Betina Johnson\, Willis Johnson\,
  KC Kern\, Michael Koski\, Tess Lehman\, Reagan Linde\, Barbara Lunger-Swi
 tzenberg\, Brian Maly\, Suz Matthews\, Joanna McCoy\, Judith McMurray\, Mi
 ke McRann\, Barbara Mitchell\, Leigh Morrison\, Lindi OBrien\, Pat Olding\
 , Kate Oltmann\, Susan Owens\, Karen Petrovich\, John Potter\, Janet Rawli
 ngs\, Stephanie Rose\, Lynn Shield\, Scott Snarr\, Judy Sprague\, Jessie S
 wimeley\, Lou Taylor\, Robert Tompkins\, Dorci Newman Tremblay\, James Vin
 cent\, BR Walker\, Shirle Wempner\, Victoria Wetsch\, Charlene Anne Wilson
 \, Ryan Wise\, Tom Wolfe and Dana Zier.\n\n\nThe juror for the 2024 RMRJE 
 is Bonnie Zahn Griffith. A painter and educator\, Griffith paints on locat
 ion throughout the US and teaches workshops on plein air techniques and th
 e art of pastel painting. Griffith’s work has been included in the 2019 an
 d 2020 Timeless Legacy – Women Artists of Glacier Park invitational exhibi
 tion featuring work by 25 nationally renowned women artists at the Hockada
 y Museum of Art in Kalispell\, Montana.\n\nA special thanks goes out to th
 e 2024 Rocky Mountain Regional Juried Exhibition sponsor\, the Red Lodge A
 rea Community Foundation. We also thank the Roosevelt Center's donation fo
 r the cash awards given to the 1st Place sculpture and 1st Place two-dimen
 sional artists. \n\nThis exhibition is organized by the Carbon County Arts
  Guild & Depot Gallery which is supported in part by grants from the Monta
 na Arts Council\, the Coal Tax Trust Fund for Cultural and Aesthetic Proje
 cts\, and the National Endowment for the Arts. \n\nThe Carbon County Arts 
 Guild & Depot Gallery provides access to art\, supports artistic expressio
 n\, and encourages creative experiences for the enrichment of our communit
 ies. \n\nFor more information visit www.carboncountydepotgallery.org or ca
 ll (406) 446-1370. \n
DTSTART;TZID=America/Denver:20240301T040000
DTEND;TZID=America/Denver:20240330T040001
LOCATION:
SUMMARY:Rocky Mountain Regional Juried Exhibition
END:VEVENT
END:VCALENDAR
