BEGIN:VCALENDAR
VERSION:2.0
PRODID:-//carboncountydepotgallery.org//NONSGML kigkonsult.se iCalcreator 2
 .30.10//
CALSCALE:GREGORIAN
METHOD:PUBLISH
UID:71aa90f2-5771-486c-ac7d-c9ce72e72ae9
X-WR-CALDESC:Want to try something new? or experiment with new media? or ju
 st have a little creative fun? Then Creative Jump Start is for you! Every 
 three weeks from Monday\, January 8th through Monday\, April 22\, we will 
 offer a drop-in introductory class that will explore a different media by 
 creating small works.\n\nLight Shadow with Conte is the fifth in the serie
 s. Using simple objects we will celebrate the pure beauty of light and sha
 dow using conte crayon -- a wax-like charcoal medium.\n\n$5 for members\, 
 $10 for non-members.\nNo registration required\, but RSVP appreciated!
X-WR-RELCALID:22dee0b85c61cf56bf5573d6e8b84163
X-WR-TIMEZONE:America/Denver
BEGIN:VTIMEZONE
TZID:America/Denver
BEGIN:STANDARD
TZNAME:MST
DTSTART:20231105T020000
TZOFFSETFROM:-0600
TZOFFSETTO:-0700
RDATE:20241103T020000
END:STANDARD
BEGIN:DAYLIGHT
TZNAME:MDT
DTSTART:20240310T020000
TZOFFSETFROM:-0700
TZOFFSETTO:-0600
RDATE:20250309T020000
END:DAYLIGHT
END:VTIMEZONE
BEGIN:VEVENT
UID:f10b81a9-742f-4fa4-9a77-cf9feadd1f1d
DTSTAMP:20260419T181822Z
DESCRIPTION:Want to try something new? or experiment with new media? or jus
 t have a little creative fun? Then Creative Jump Start is for you! Every t
 hree weeks from Monday\, January 8th through Monday\, April 22\, we will o
 ffer a drop-in introductory class that will explore a different media by c
 reating small works.\n\nLight Shadow with Conte is the fifth in the series
 . Using simple objects we will celebrate the pure beauty of light and shad
 ow using conte crayon -- a wax-like charcoal medium.\n\n$5 for members\, $
 10 for non-members.\nNo registration required\, but RSVP appreciated!
DTSTART;TZID=America/Denver:20240401T100000
DTEND;TZID=America/Denver:20240401T113000
LOCATION:11 West 8th Street\, Red Lodge\, MT 59068 US
SUMMARY:Creative Jump Start: Light and Shadow with Conte
END:VEVENT
END:VCALENDAR
