BEGIN:VCALENDAR
VERSION:2.0
PRODID:-//carboncountydepotgallery.org//NONSGML kigkonsult.se iCalcreator 2
 .30.10//
CALSCALE:GREGORIAN
METHOD:PUBLISH
UID:4f673178-4b86-4939-9110-deb17066e318
X-WR-CALDESC:Join us at the opening reception for the K-8 Student Art Show.
  Hundred of pieces are on view in this annual art show from students in Fi
 shtail\, Nye\, and Carbon County Schools. Each year we provide awards for 
 top entries in each grade. Judges for the 2024 exhibition are local reside
 nts Merv Coleman\, Brian Langeliers\, and Maggy Rozycki Hiltner. The award
 s are provided courtesy of the Red Lodge Lions. \n\nThe Opening Reception 
 is 2-4 p.m. with the announcement of awards at 3 p.m. Light refreshments w
 ill be served.\n\nCome see the creative talent of the students in our comm
 unities. The annual K-8 Student Art Show is on view April 6-27\, 2024.\n
X-WR-RELCALID:1278ee26f1c82c27c25beac71a7216e3
X-WR-TIMEZONE:America/Denver
BEGIN:VTIMEZONE
TZID:America/Denver
BEGIN:STANDARD
TZNAME:MST
DTSTART:20231105T020000
TZOFFSETFROM:-0600
TZOFFSETTO:-0700
RDATE:20241103T020000
END:STANDARD
BEGIN:DAYLIGHT
TZNAME:MDT
DTSTART:20240310T020000
TZOFFSETFROM:-0700
TZOFFSETTO:-0600
RDATE:20250309T020000
END:DAYLIGHT
END:VTIMEZONE
BEGIN:VEVENT
UID:b60141a1-0b89-4401-a720-335709abdb3a
DTSTAMP:20260419T181955Z
DESCRIPTION:Join us at the opening reception for the K-8 Student Art Show. 
 Hundred of pieces are on view in this annual art show from students in Fis
 htail\, Nye\, and Carbon County Schools. Each year we provide awards for t
 op entries in each grade. Judges for the 2024 exhibition are local residen
 ts Merv Coleman\, Brian Langeliers\, and Maggy Rozycki Hiltner. The awards
  are provided courtesy of the Red Lodge Lions. \n\nThe Opening Reception i
 s 2-4 p.m. with the announcement of awards at 3 p.m. Light refreshments wi
 ll be served.\n\nCome see the creative talent of the students in our commu
 nities. The annual K-8 Student Art Show is on view April 6-27\, 2024.\n
DTSTART;TZID=America/Denver:20240407T140000
DTEND;TZID=America/Denver:20240407T160000
LOCATION:11 W 8th Street\, Red Lodge\, MT 59068 US
SUMMARY:K-8 Student Show Reception
END:VEVENT
END:VCALENDAR
