BEGIN:VCALENDAR
VERSION:2.0
PRODID:-//carboncountydepotgallery.org//NONSGML kigkonsult.se iCalcreator 2
 .30.10//
CALSCALE:GREGORIAN
METHOD:PUBLISH
UID:5550a7a7-78c6-403c-b96a-3bda6c1c9a95
X-WR-CALDESC:Want to try something new? or experiment with new media? or ju
 st have a little creative fun? Then Creative Jump Start is for you! Every 
 three weeks from Monday\, January 8th through Monday\, April 22\, we will 
 offer a drop-in introductory class that will explore a different media by 
 creating small works.\n\nCopper Repousse is the last in the series. Repous
 se is the art of designing an image which is then brought to life in raise
 d in relief on thin metal sheets by means of soft hammers and other formin
 g tools.\n\n$5 for members\, $10 for non-members.\nNo registration require
 d\, but RSVP appreciated!
X-WR-RELCALID:406e1e27a9d8788e5d13ebcdcaca4402
X-WR-TIMEZONE:America/Denver
BEGIN:VTIMEZONE
TZID:America/Denver
BEGIN:STANDARD
TZNAME:MST
DTSTART:20231105T020000
TZOFFSETFROM:-0600
TZOFFSETTO:-0700
RDATE:20241103T020000
END:STANDARD
BEGIN:DAYLIGHT
TZNAME:MDT
DTSTART:20240310T020000
TZOFFSETFROM:-0700
TZOFFSETTO:-0600
RDATE:20250309T020000
END:DAYLIGHT
END:VTIMEZONE
BEGIN:VEVENT
UID:8dc51ccd-da63-48e8-a9ce-9f7bba595052
DTSTAMP:20260419T182141Z
DESCRIPTION:Want to try something new? or experiment with new media? or jus
 t have a little creative fun? Then Creative Jump Start is for you! Every t
 hree weeks from Monday\, January 8th through Monday\, April 22\, we will o
 ffer a drop-in introductory class that will explore a different media by c
 reating small works.\n\nCopper Repousse is the last in the series. Repouss
 e is the art of designing an image which is then brought to life in raised
  in relief on thin metal sheets by means of soft hammers and other forming
  tools.\n\n$5 for members\, $10 for non-members.\nNo registration required
 \, but RSVP appreciated!
DTSTART;TZID=America/Denver:20240422T100000
DTEND;TZID=America/Denver:20240422T113000
LOCATION:11 West 8th Street\, Red Lodge\, MT 59068 US
SUMMARY:Creative Jump Start: Copper Repousse (Foil Embossing)
END:VEVENT
END:VCALENDAR
