BEGIN:VCALENDAR
VERSION:2.0
PRODID:-//carboncountydepotgallery.org//NONSGML kigkonsult.se iCalcreator 2
 .30.10//
CALSCALE:GREGORIAN
METHOD:PUBLISH
UID:28ec7d77-169e-4d41-a2f5-3e4d6b749d9d
X-WR-CALDESC:The 2024 K-8 Student Art Show features work from Fishtail\, Jo
 liet\, Luther\, Nye\, Roberts\, Red Lodge and home school students. This a
 nnual exhibition showcases the talents of students in our communities. \n
 \nEach year we ask local resident artists and community members to judge t
 he work submitted. The judges for this year are Merv Coleman\, Brian Lange
 liers\, and Maggy Rozycki Hiltner. Awards for the students are courtesy of
  the Red Lodge Lions.\n\nStop in to see the work on view April 6-27\, 2024
 . An Opening Reception is Sunday\, April 7\, from 2-4 p.m. Awards will be 
 announced at 3 p.m. Light refreshments will be served. This event is free 
 and open to the public. \n\nDepot Gallery hours are Sunday-Monday 12-4 p.m
 . and Thursday through Saturday\, 10 a.m. to 5 p.m.
X-WR-RELCALID:67ce9af665af4906e741c64b62abd31c
X-WR-TIMEZONE:America/Denver
BEGIN:VTIMEZONE
TZID:America/Denver
BEGIN:STANDARD
TZNAME:MST
DTSTART:20231105T020000
TZOFFSETFROM:-0600
TZOFFSETTO:-0700
RDATE:20241103T020000
END:STANDARD
BEGIN:DAYLIGHT
TZNAME:MDT
DTSTART:20240310T020000
TZOFFSETFROM:-0700
TZOFFSETTO:-0600
RDATE:20250309T020000
END:DAYLIGHT
END:VTIMEZONE
BEGIN:VEVENT
UID:6ce77afd-342e-4cc4-a9b8-7735beb54c22
DTSTAMP:20260419T182440Z
DESCRIPTION:The 2024 K-8 Student Art Show features work from Fishtail\, Jol
 iet\, Luther\, Nye\, Roberts\, Red Lodge and home school students. This an
 nual exhibition showcases the talents of students in our communities. \n\n
 Each year we ask local resident artists and community members to judge the
  work submitted. The judges for this year are Merv Coleman\, Brian Langeli
 ers\, and Maggy Rozycki Hiltner. Awards for the students are courtesy of t
 he Red Lodge Lions.\n\nStop in to see the work on view April 6-27\, 2024. 
 An Opening Reception is Sunday\, April 7\, from 2-4 p.m. Awards will be an
 nounced at 3 p.m. Light refreshments will be served. This event is free an
 d open to the public. \n\nDepot Gallery hours are Sunday-Monday 12-4 p.m. 
 and Thursday through Saturday\, 10 a.m. to 5 p.m.
DTSTART;TZID=America/Denver:20240406T000000
DTEND;TZID=America/Denver:20240427T000000
LOCATION:
SUMMARY:K-8 Student Art Show
END:VEVENT
END:VCALENDAR
