BEGIN:VCALENDAR
VERSION:2.0
PRODID:-//carboncountydepotgallery.org//NONSGML kigkonsult.se iCalcreator 2
 .30.10//
CALSCALE:GREGORIAN
METHOD:PUBLISH
UID:1c6fac56-d4b4-4f5e-837b-38f892d833c1
X-WR-CALDESC:Students from Carbon County display their work in this annual 
 art exhibition. Awards are given for top places and honorable mentions. Th
 e judges for the High School Show are Betty Hecker and Teresa Oliphant. Aw
 ards for the students are courtesy of the Red Lodge Lions. \n\nThis year w
 e are also featuring a piece of art from each of the teachers whose studen
 ts are in the show. High school student art will be on view May 4-25\, 202
 4.\n\nSunday\, May 5 from 2-4 p.m. is the Opening Reception. Awards will b
 e announced at 3 p.m. The reception and viewing the exhibition is free and
  open to the public. \n\n
X-WR-RELCALID:95c00525d8a6924c43ccb032e4aa8b5f
X-WR-TIMEZONE:America/Denver
BEGIN:VTIMEZONE
TZID:America/Denver
BEGIN:STANDARD
TZNAME:MST
DTSTART:20231105T020000
TZOFFSETFROM:-0600
TZOFFSETTO:-0700
RDATE:20241103T020000
RDATE:20251102T020000
END:STANDARD
BEGIN:DAYLIGHT
TZNAME:MDT
DTSTART:20240310T020000
TZOFFSETFROM:-0700
TZOFFSETTO:-0600
RDATE:20250309T020000
END:DAYLIGHT
END:VTIMEZONE
BEGIN:VEVENT
UID:5de4e5d5-6ddf-4f5d-ac74-7342ac5cabb4
DTSTAMP:20260419T213743Z
DESCRIPTION:Students from Carbon County display their work in this annual a
 rt exhibition. Awards are given for top places and honorable mentions. The
  judges for the High School Show are Betty Hecker and Teresa Oliphant. Awa
 rds for the students are courtesy of the Red Lodge Lions. \n\nThis year we
  are also featuring a piece of art from each of the teachers whose student
 s are in the show. High school student art will be on view May 4-25\, 2024
 .\n\nSunday\, May 5 from 2-4 p.m. is the Opening Reception. Awards will be
  announced at 3 p.m. The reception and viewing the exhibition is free and 
 open to the public. \n\n
DTSTART;TZID=America/Denver:20240504T040000
DTEND;TZID=America/Denver:20240525T040001
LOCATION:
SUMMARY:High School Student Art Show
END:VEVENT
END:VCALENDAR
