BEGIN:VCALENDAR
VERSION:2.0
PRODID:-//carboncountydepotgallery.org//NONSGML kigkonsult.se iCalcreator 2
 .30.10//
CALSCALE:GREGORIAN
METHOD:PUBLISH
UID:497bf07d-0de2-4555-b023-5e9a7cbc8a81
X-WR-CALDESC:Our featured guest artist for the May Art Walk is DG House. He
 r visit is in conjunction with a MAGDA traveling exhibition\, 'In That Sti
 ll Moment'\, on view May 4-30\, 2024 in the main gallery. It features 20 n
 ew paintings that focus on Yellowstone and Grand Teton National Park wildl
 ife and indigenous peoples. \n\nArt Walk is a community event. Free and op
 en to the public.
X-WR-RELCALID:10d18b77805e8121f5232b21b4aed613
X-WR-TIMEZONE:America/Denver
BEGIN:VTIMEZONE
TZID:America/Denver
BEGIN:STANDARD
TZNAME:MST
DTSTART:20231105T020000
TZOFFSETFROM:-0600
TZOFFSETTO:-0700
RDATE:20241103T020000
RDATE:20251102T020000
END:STANDARD
BEGIN:DAYLIGHT
TZNAME:MDT
DTSTART:20240310T020000
TZOFFSETFROM:-0700
TZOFFSETTO:-0600
RDATE:20250309T020000
END:DAYLIGHT
END:VTIMEZONE
BEGIN:VEVENT
UID:96fb64b3-2d3d-4db2-a378-e667e8998b30
DTSTAMP:20260419T200136Z
DESCRIPTION:Our featured guest artist for the May Art Walk is DG House. Her
  visit is in conjunction with a MAGDA traveling exhibition\, 'In That Stil
 l Moment'\, on view May 4-30\, 2024 in the main gallery. It features 20 ne
 w paintings that focus on Yellowstone and Grand Teton National Park wildli
 fe and indigenous peoples. \n\nArt Walk is a community event. Free and ope
 n to the public.
DTSTART;TZID=America/Denver:20240511T140000
DTEND;TZID=America/Denver:20240511T180000
LOCATION:
SUMMARY:Art Walk - DG house\, Guest Artist
END:VEVENT
END:VCALENDAR
