BEGIN:VCALENDAR
VERSION:2.0
PRODID:-//carboncountydepotgallery.org//NONSGML kigkonsult.se iCalcreator 2
 .30.10//
CALSCALE:GREGORIAN
METHOD:PUBLISH
UID:819de182-9701-4a8b-9221-3203a69d9b48
X-WR-CALDESC:Acrylic painting with Native American artist\, DG House. House
  is in her 40th year as a professional artist and is artist in residence (
 Legacy Artist Indigenous Arts and Cultural Demonstration Program) in Grand
  Teton National Park and (Inspired by Yellowstone) in Yellowstone National
  Park. DG House is known for her colorful depictions of wildlife and wild 
 lands featuring her iconic blue bears. \n\nThis workshop is for participan
 ts age 16+. All skill levels welcome. Class size is limited to 10.\nMember
 s: $30\, Non-members: $40. All supplies provided.\n\nCancellation Policy:
 \nIf the participant cancels one week or more prior to the start of class\
 , the registration cost will be refunded less a $10 processing fee. Regist
 rations cancelled by the participant less than 7 days prior to the day of 
 the class will not be refunded. If class is cancelled by the Arts Guild\, 
 registrations will be refunded at 100%.
X-WR-RELCALID:743a6d2804f7bdc668c988a9e5d66390
X-WR-TIMEZONE:America/Denver
BEGIN:VTIMEZONE
TZID:America/Denver
BEGIN:STANDARD
TZNAME:MST
DTSTART:20231105T020000
TZOFFSETFROM:-0600
TZOFFSETTO:-0700
RDATE:20241103T020000
RDATE:20251102T020000
END:STANDARD
BEGIN:DAYLIGHT
TZNAME:MDT
DTSTART:20240310T020000
TZOFFSETFROM:-0700
TZOFFSETTO:-0600
RDATE:20250309T020000
END:DAYLIGHT
END:VTIMEZONE
BEGIN:VEVENT
UID:05073228-d5cc-4b69-80ab-a57016ecbd81
DTSTAMP:20260419T200057Z
DESCRIPTION:Acrylic painting with Native American artist\, DG House. House 
 is in her 40th year as a professional artist and is artist in residence (L
 egacy Artist Indigenous Arts and Cultural Demonstration Program) in Grand 
 Teton National Park and (Inspired by Yellowstone) in Yellowstone National 
 Park. DG House is known for her colorful depictions of wildlife and wild l
 ands featuring her iconic blue bears. \n\nThis workshop is for participant
 s age 16+. All skill levels welcome. Class size is limited to 10.\nMembers
 : $30\, Non-members: $40. All supplies provided.\n\nCancellation Policy:\n
 If the participant cancels one week or more prior to the start of class\, 
 the registration cost will be refunded less a $10 processing fee. Registra
 tions cancelled by the participant less than 7 days prior to the day of th
 e class will not be refunded. If class is cancelled by the Arts Guild\, re
 gistrations will be refunded at 100%.
DTSTART;TZID=America/Denver:20240511T100000
DTEND;TZID=America/Denver:20240511T113000
LOCATION:
SUMMARY:Blue Bears: Acrylic Painting with DG House
END:VEVENT
END:VCALENDAR
