BEGIN:VCALENDAR
VERSION:2.0
PRODID:-//carboncountydepotgallery.org//NONSGML kigkonsult.se iCalcreator 2
 .30.10//
CALSCALE:GREGORIAN
METHOD:PUBLISH
UID:2c436e77-ee2d-4085-931b-4b35fec3f186
X-WR-CALDESC:Enjoy light refreshments while trying to name the tune in the 
 'Inspired by Song' exhibition featuring art by Guild members. More details
  to follow.\n
X-WR-RELCALID:7547228e72d21a27d7b3ebf52a5cecd8
X-WR-TIMEZONE:America/Denver
BEGIN:VTIMEZONE
TZID:America/Denver
BEGIN:STANDARD
TZNAME:MST
DTSTART:20231105T020000
TZOFFSETFROM:-0600
TZOFFSETTO:-0700
RDATE:20241103T020000
RDATE:20251102T020000
END:STANDARD
BEGIN:DAYLIGHT
TZNAME:MDT
DTSTART:20240310T020000
TZOFFSETFROM:-0700
TZOFFSETTO:-0600
RDATE:20250309T020000
END:DAYLIGHT
END:VTIMEZONE
BEGIN:VEVENT
UID:39341fb4-afda-4cf4-a795-0e09f67e8118
DTSTAMP:20260419T213721Z
DESCRIPTION:Enjoy light refreshments while trying to name the tune in the '
 Inspired by Song' exhibition featuring art by Guild members. More details 
 to follow.\n
DTSTART;TZID=America/Denver:20240608T140000
DTEND;TZID=America/Denver:20240608T180000
LOCATION:
SUMMARY:Art Walk - 'Name That Tune' Game
END:VEVENT
END:VCALENDAR
