BEGIN:VCALENDAR
VERSION:2.0
PRODID:-//carboncountydepotgallery.org//NONSGML kigkonsult.se iCalcreator 2
 .30.10//
CALSCALE:GREGORIAN
METHOD:PUBLISH
UID:f72ec438-1f14-4994-9d2d-352e4a2c34a6
X-WR-CALDESC:Members of the Chamber of Commerce and Carbon County Arts Guil
 d are invited to attend the Chamber After Hours event from 5:30-7 p.m. on 
 Thursday\, June 13. \n\nThis event is the Opening Reception for the June e
 xhibitions. Enjoy appetizers\, drinks\, and a chance to win prizes while v
 iewing Montana Melody: Heaven on Earth\, Paintings by Connie Herberg and I
 nspired by Song\, featuring art by CCAG Guild Members. Listen to the tunes
  that inspire artists create. \n\n\n
X-WR-RELCALID:e5428fdc5a2ce8e28167e68acfabab26
X-WR-TIMEZONE:America/Denver
BEGIN:VTIMEZONE
TZID:America/Denver
BEGIN:STANDARD
TZNAME:MST
DTSTART:20231105T020000
TZOFFSETFROM:-0600
TZOFFSETTO:-0700
RDATE:20241103T020000
RDATE:20251102T020000
END:STANDARD
BEGIN:DAYLIGHT
TZNAME:MDT
DTSTART:20240310T020000
TZOFFSETFROM:-0700
TZOFFSETTO:-0600
RDATE:20250309T020000
END:DAYLIGHT
END:VTIMEZONE
BEGIN:VEVENT
UID:15967bba-1786-4626-a9a9-8619791fa9b0
DTSTAMP:20260419T213424Z
DESCRIPTION:Members of the Chamber of Commerce and Carbon County Arts Guild
  are invited to attend the Chamber After Hours event from 5:30-7 p.m. on T
 hursday\, June 13. \n\nThis event is the Opening Reception for the June ex
 hibitions. Enjoy appetizers\, drinks\, and a chance to win prizes while vi
 ewing Montana Melody: Heaven on Earth\, Paintings by Connie Herberg and In
 spired by Song\, featuring art by CCAG Guild Members. Listen to the tunes 
 that inspire artists create. \n\n\n
DTSTART;TZID=America/Denver:20240613T173000
DTEND;TZID=America/Denver:20240613T190000
LOCATION:
SUMMARY:Chamber After Hours
END:VEVENT
END:VCALENDAR
