BEGIN:VCALENDAR
VERSION:2.0
PRODID:-//carboncountydepotgallery.org//NONSGML kigkonsult.se iCalcreator 2
 .30.10//
CALSCALE:GREGORIAN
METHOD:PUBLISH
UID:6dca620d-b8b1-4582-ba1f-688f13e9061c
X-WR-CALDESC:Instructor: Connie Herberg\nAbstraction and design form the be
 ginning processes of any creative endeavor. Understanding the basic princi
 ples of design and abstraction\, an artist builds their art to its finishe
 d form\, whatever that may be. Through this class we will look at masterfu
 l design concepts and exercise our own designs using markers\, paint\, and
  various other mark making materials\, as we dig into some fun ways to und
 erstand and experience abstraction. \n\nJune 14-15\, 9 a.m. - 2 p.m. each 
 day\nCost: $120 members\, $135 non-members\nParticipants will need to prov
 ide their own acrylic paint (black\, white\, blue\, yellow\, red\, burnt u
 mber)\, sketchbook\, and painting shirt/apron\n\nCancellation Policy:\nIf 
 the participant cancels one week or more prior to the start of class\, the
  registration cost will be refunded less a $10 processing fee. Registratio
 ns cancelled by the participant less than 7 days prior to the day of the c
 lass will not be refunded. If class is cancelled by the Arts Guild\, regis
 trations will be refunded at 100%.
X-WR-RELCALID:3755e7f2a5e52c86efe8162c00e636ba
X-WR-TIMEZONE:America/Denver
BEGIN:VTIMEZONE
TZID:America/Denver
BEGIN:STANDARD
TZNAME:MST
DTSTART:20231105T020000
TZOFFSETFROM:-0600
TZOFFSETTO:-0700
RDATE:20241103T020000
RDATE:20251102T020000
END:STANDARD
BEGIN:DAYLIGHT
TZNAME:MDT
DTSTART:20240310T020000
TZOFFSETFROM:-0700
TZOFFSETTO:-0600
RDATE:20250309T020000
END:DAYLIGHT
END:VTIMEZONE
BEGIN:VEVENT
UID:e491afdc-371c-43ad-8728-e686e5f43381
DTSTAMP:20260419T213514Z
DESCRIPTION:Instructor: Connie Herberg\nAbstraction and design form the beg
 inning processes of any creative endeavor. Understanding the basic princip
 les of design and abstraction\, an artist builds their art to its finished
  form\, whatever that may be. Through this class we will look at masterful
  design concepts and exercise our own designs using markers\, paint\, and 
 various other mark making materials\, as we dig into some fun ways to unde
 rstand and experience abstraction. \n\nJune 14-15\, 9 a.m. - 2 p.m. each d
 ay\nCost: $120 members\, $135 non-members\nParticipants will need to provi
 de their own acrylic paint (black\, white\, blue\, yellow\, red\, burnt um
 ber)\, sketchbook\, and painting shirt/apron\n\nCancellation Policy:\nIf t
 he participant cancels one week or more prior to the start of class\, the 
 registration cost will be refunded less a $10 processing fee. Registration
 s cancelled by the participant less than 7 days prior to the day of the cl
 ass will not be refunded. If class is cancelled by the Arts Guild\, regist
 rations will be refunded at 100%.
DTSTART;TZID=America/Denver:20240614T090000
DTEND;TZID=America/Denver:20240615T140000
LOCATION:
SUMMARY:Abstract Beginnings with Connie Herberg
END:VEVENT
END:VCALENDAR
