BEGIN:VCALENDAR
VERSION:2.0
PRODID:-//carboncountydepotgallery.org//NONSGML kigkonsult.se iCalcreator 2
 .30.10//
CALSCALE:GREGORIAN
METHOD:PUBLISH
UID:41006a48-95ec-4511-8735-9ba4392d73f6
X-WR-CALDESC:Learn to draw with pencil\, colored pencil and charcoal. Each 
 day will have a lesson\, demo\, project work time and discussion focusing 
 on drawing skills\, composition and creativity.\n\nGrades 1-3 from 9 am - 
 11:30 am\nGrades 4-12 from 1-3:30 pm\n\nLimited to 10 students each sessio
 n.\n\nAll supplies included in registration fee. Limited scholarship funds
  available. Please call for more information.
X-WR-RELCALID:fe0293b9de9c737672bec11a4c09abf0
X-WR-TIMEZONE:America/Denver
BEGIN:VTIMEZONE
TZID:America/Denver
BEGIN:STANDARD
TZNAME:MST
DTSTART:20231105T020000
TZOFFSETFROM:-0600
TZOFFSETTO:-0700
RDATE:20241103T020000
RDATE:20251102T020000
END:STANDARD
BEGIN:DAYLIGHT
TZNAME:MDT
DTSTART:20240310T020000
TZOFFSETFROM:-0700
TZOFFSETTO:-0600
RDATE:20250309T020000
END:DAYLIGHT
END:VTIMEZONE
BEGIN:VEVENT
UID:ab5c3685-92b1-4935-83ed-6a83a38a1b39
DTSTAMP:20260419T213337Z
DESCRIPTION:Learn to draw with pencil\, colored pencil and charcoal. Each d
 ay will have a lesson\, demo\, project work time and discussion focusing o
 n drawing skills\, composition and creativity.\n\nGrades 1-3 from 9 am - 1
 1:30 am\nGrades 4-12 from 1-3:30 pm\n\nLimited to 10 students each session
 .\n\nAll supplies included in registration fee. Limited scholarship funds 
 available. Please call for more information.
DTSTART;TZID=America/Denver:20240617T090000
DTEND;TZID=America/Denver:20240620T153000
LOCATION:
SUMMARY:Drawing Camp for Students
END:VEVENT
END:VCALENDAR
