BEGIN:VCALENDAR
VERSION:2.0
PRODID:-//carboncountydepotgallery.org//NONSGML kigkonsult.se iCalcreator 2
 .30.10//
CALSCALE:GREGORIAN
METHOD:PUBLISH
UID:0a518741-54cd-45d8-9e15-4f9522b021c3
X-WR-CALDESC:This themed exhibition is designed to highlight the creative w
 ork by our guild members. The theme\, 'Inspired by Song' is to draw attent
 ion to the creative juices that flow when listening to music. Songs range 
 from classical\, to country\, to rock-n-roll\, and the blues. In addition\
 , this exhibition coincides with the annual Songwriters Festival that take
 s place in Red Lodge. \n\nJoin us from 2-6 p.m. at the Carbon County Arts 
 Guild & Depot Gallery for the Saturday\, June 8 Art Walk and play\, 'name 
 that tune' by guessing at the song title of the artwork on view. You may b
 e eligible to win a prize. Stop in during Art Walk and test your skills.\n
 \nOn Thursday\, June 13\, attend the artists reception and Chamber of Comm
 erce After Hours event from 5:30-7 p.m. This is a chance to participate in
  the 50/50 raffle\, win prizes\, and view the art. \n \nPARTICIPATING ARTI
 STS - Barbara Butler\, Dwight Cushman\, Ken Deaver\, Dolly Frerichs\, Mike
  Koski\, Brian Langliers\, Tess Lehman\, Judy Liner\, Bruce Marty\, Judi M
 cMurray\, Christine Mullaney\, Lara Myers\, Diana Mysse\, Dorci Newman-Tre
 mblay\, Lindi O'Brien\, Pat Olding\, Dominique Paulus\, Cat Pentescu\, Jan
 ice Polzin\, Carrie Alicia Rhett\, Lynn Shield\, Lou Taylor\, BR Walker\, 
 Richard Wallace\, Charlene Wilson\, Dana Zier and Jenny Zimmermann
X-WR-RELCALID:c8414ab495892a0674a9aac314914a18
X-WR-TIMEZONE:America/Denver
BEGIN:VTIMEZONE
TZID:America/Denver
BEGIN:STANDARD
TZNAME:MST
DTSTART:20231105T020000
TZOFFSETFROM:-0600
TZOFFSETTO:-0700
RDATE:20241103T020000
RDATE:20251102T020000
END:STANDARD
BEGIN:DAYLIGHT
TZNAME:MDT
DTSTART:20240310T020000
TZOFFSETFROM:-0700
TZOFFSETTO:-0600
RDATE:20250309T020000
END:DAYLIGHT
END:VTIMEZONE
BEGIN:VEVENT
UID:b622a89e-9682-43d5-b7e9-a07b27adc65e
DTSTAMP:20260419T231420Z
DESCRIPTION:This themed exhibition is designed to highlight the creative wo
 rk by our guild members. The theme\, 'Inspired by Song' is to draw attenti
 on to the creative juices that flow when listening to music. Songs range f
 rom classical\, to country\, to rock-n-roll\, and the blues. In addition\,
  this exhibition coincides with the annual Songwriters Festival that takes
  place in Red Lodge. \n\nJoin us from 2-6 p.m. at the Carbon County Arts G
 uild & Depot Gallery for the Saturday\, June 8 Art Walk and play\, 'name t
 hat tune' by guessing at the song title of the artwork on view. You may be
  eligible to win a prize. Stop in during Art Walk and test your skills.\n
 \nOn Thursday\, June 13\, attend the artists reception and Chamber of Comm
 erce After Hours event from 5:30-7 p.m. This is a chance to participate in
  the 50/50 raffle\, win prizes\, and view the art. \n \nPARTICIPATING ARTI
 STS - Barbara Butler\, Dwight Cushman\, Ken Deaver\, Dolly Frerichs\, Mike
  Koski\, Brian Langliers\, Tess Lehman\, Judy Liner\, Bruce Marty\, Judi M
 cMurray\, Christine Mullaney\, Lara Myers\, Diana Mysse\, Dorci Newman-Tre
 mblay\, Lindi O'Brien\, Pat Olding\, Dominique Paulus\, Cat Pentescu\, Jan
 ice Polzin\, Carrie Alicia Rhett\, Lynn Shield\, Lou Taylor\, BR Walker\, 
 Richard Wallace\, Charlene Wilson\, Dana Zier and Jenny Zimmermann
DTSTART;TZID=America/Denver:20240606T040000
DTEND;TZID=America/Denver:20240706T040001
LOCATION:
SUMMARY:Inspired by Song\, CCAG Guild Member Exhibition
END:VEVENT
END:VCALENDAR
