BEGIN:VCALENDAR
VERSION:2.0
PRODID:-//carboncountydepotgallery.org//NONSGML kigkonsult.se iCalcreator 2
 .30.10//
CALSCALE:GREGORIAN
METHOD:PUBLISH
UID:6dcc17a2-cd08-4e11-a3c2-f8ccd87d3a12
X-WR-CALDESC:Join us to kick-off the opening of the Art in the Beartooths S
 ilent auction exhibition. This event is free and open to the public. It wi
 ll be a great time to mingle with artists who have work in the exhibition\
 , enjoy live music\, food and drink. Silent Auction bidding starts at 3 p.
 m. using Handbid\, an online auction platform. \n\nMore details will be co
 ming so check back soon!
X-WR-RELCALID:203a74723291c956da183b1d52fd9499
X-WR-TIMEZONE:America/Denver
BEGIN:VTIMEZONE
TZID:America/Denver
BEGIN:STANDARD
TZNAME:MST
DTSTART:20231105T020000
TZOFFSETFROM:-0600
TZOFFSETTO:-0700
RDATE:20241103T020000
RDATE:20251102T020000
END:STANDARD
BEGIN:DAYLIGHT
TZNAME:MDT
DTSTART:20240310T020000
TZOFFSETFROM:-0700
TZOFFSETTO:-0600
RDATE:20250309T020000
END:DAYLIGHT
END:VTIMEZONE
BEGIN:VEVENT
UID:2fb6564d-664c-49cb-9ec6-98ff04b1e01c
DTSTAMP:20260419T231157Z
DESCRIPTION:Join us to kick-off the opening of the Art in the Beartooths Si
 lent auction exhibition. This event is free and open to the public. It wil
 l be a great time to mingle with artists who have work in the exhibition\,
  enjoy live music\, food and drink. Silent Auction bidding starts at 3 p.m
 . using Handbid\, an online auction platform. \n\nMore details will be com
 ing so check back soon!
DTSTART;TZID=America/Denver:20240713T140000
DTEND;TZID=America/Denver:20240713T160000
LOCATION:11 West 8th Street\, Red Lodge\, MT 59068 US
SUMMARY:AIB SILENT AUCTION Opening Party
END:VEVENT
END:VCALENDAR
