BEGIN:VCALENDAR
VERSION:2.0
PRODID:-//carboncountydepotgallery.org//NONSGML kigkonsult.se iCalcreator 2
 .30.10//
CALSCALE:GREGORIAN
METHOD:PUBLISH
UID:b63c2379-26b0-4598-91c2-b2d71c10b82c
X-WR-CALDESC:Art in the Beartooths Silent Auction Art Exhibition is on view
  July 13-August 5 in the Depot Gallery. All bidding is done online at Hand
 bid. Bidding opens at 3p.m. Saturday\, July 13 and closes Monday\, August 
 5 at 7 p.m.\n\nThe Opening Reception for the Silent Auction Art Exhibition
  is Saturday\, July 13 from 2-4 p.m. We will feature live music by Grizzly
  Peak Pickers\, food\, beverages\, a raffle every half hour\, Wine Pull\, 
 and chance to mingle with artists. \n\nArtists in the Silent Auction Art E
 xhibition include: Cate Allen\, Ty Barhaug\, Carol Barmore\, Maggie Basset
 t\, Ann Beck\, Henry Blond\, Dwight Cushman\, Kathy Davies\, Linda Franson
 \,\,Bonnie Zahn Griffith\, Maura Grogan\, Eleanor Guerrero\, Carol Hagan\,
  Connie Herberg\, Kathleen Houseman\, Betina Johnson\, Brooke Kapalka\, Te
 resa Kelly\, Brenna Kimbro\, Ellis (Rabbit) Knows Gun\, Allen Knows His Gu
 n\, Mike Kosorok\, Elizabeth LaRowe\, Tess Lehman\, Bruce Marty\, Judith M
 cMurray\, Mike McRann\, Diana Mysse\, Dorci Newman-Tremblay\, Lindi O’Brie
 n\, Pat Olding\, Dominique Paulus\, Karen Petrovich\, Vicki Quick\, Kevin 
 Red Star\, Stephanie Rose\, Lynn Shield\, Trish Stevenson\, Lou Taylor\, E
 cho Ukrainetz\, Ron Ukrainetz\, James Vincent\, Richard Wallace\, Carol We
 lch\, Victoria Wetsch\, Randy Wiethorn\, Tom Wolfe\, Dana Zier\, and Jenny
  Zimmermann.This event is free and open to the public.\n\nAfter the Openin
 g Reception stroll down Broadway until 6p.m. for the Red Lodge Art Walk. 
 \n\nAugust 3\, join us again for the Art in the Beartooths Quick Finish an
 d Live Auction. This fundraiser will be held from 10 a.m. to 2 p.m. at Red
  Lodge Ales Event Center. For details and ticket information click below. 
 \n\n(Rose Enchantment by Bruce Marty\, is available in the silent auction.
  Bruce is a participant in the live auction\, too.)
X-WR-RELCALID:60784a420baacc4c8053a4abd4d44875
X-WR-TIMEZONE:America/Denver
BEGIN:VTIMEZONE
TZID:America/Denver
BEGIN:STANDARD
TZNAME:MST
DTSTART:20231105T020000
TZOFFSETFROM:-0600
TZOFFSETTO:-0700
RDATE:20241103T020000
RDATE:20251102T020000
END:STANDARD
BEGIN:DAYLIGHT
TZNAME:MDT
DTSTART:20240310T020000
TZOFFSETFROM:-0700
TZOFFSETTO:-0600
RDATE:20250309T020000
END:DAYLIGHT
END:VTIMEZONE
BEGIN:VEVENT
UID:643e8502-264e-49b2-851b-c4b0687cf8e9
DTSTAMP:20260420T004809Z
DESCRIPTION:Art in the Beartooths Silent Auction Art Exhibition is on view 
 July 13-August 5 in the Depot Gallery. All bidding is done online at Handb
 id. Bidding opens at 3p.m. Saturday\, July 13 and closes Monday\, August 5
  at 7 p.m.\n\nThe Opening Reception for the Silent Auction Art Exhibition 
 is Saturday\, July 13 from 2-4 p.m. We will feature live music by Grizzly 
 Peak Pickers\, food\, beverages\, a raffle every half hour\, Wine Pull\, a
 nd chance to mingle with artists. \n\nArtists in the Silent Auction Art Ex
 hibition include: Cate Allen\, Ty Barhaug\, Carol Barmore\, Maggie Bassett
 \, Ann Beck\, Henry Blond\, Dwight Cushman\, Kathy Davies\, Linda Franson\
 ,\,Bonnie Zahn Griffith\, Maura Grogan\, Eleanor Guerrero\, Carol Hagan\, 
 Connie Herberg\, Kathleen Houseman\, Betina Johnson\, Brooke Kapalka\, Ter
 esa Kelly\, Brenna Kimbro\, Ellis (Rabbit) Knows Gun\, Allen Knows His Gun
 \, Mike Kosorok\, Elizabeth LaRowe\, Tess Lehman\, Bruce Marty\, Judith Mc
 Murray\, Mike McRann\, Diana Mysse\, Dorci Newman-Tremblay\, Lindi O’Brien
 \, Pat Olding\, Dominique Paulus\, Karen Petrovich\, Vicki Quick\, Kevin R
 ed Star\, Stephanie Rose\, Lynn Shield\, Trish Stevenson\, Lou Taylor\, Ec
 ho Ukrainetz\, Ron Ukrainetz\, James Vincent\, Richard Wallace\, Carol Wel
 ch\, Victoria Wetsch\, Randy Wiethorn\, Tom Wolfe\, Dana Zier\, and Jenny 
 Zimmermann.This event is free and open to the public.\n\nAfter the Opening
  Reception stroll down Broadway until 6p.m. for the Red Lodge Art Walk. \n
 \nAugust 3\, join us again for the Art in the Beartooths Quick Finish and 
 Live Auction. This fundraiser will be held from 10 a.m. to 2 p.m. at Red L
 odge Ales Event Center. For details and ticket information click below. \n
 \n(Rose Enchantment by Bruce Marty\, is available in the silent auction. B
 ruce is a participant in the live auction\, too.)
DTSTART;TZID=America/Denver:20240713T040000
DTEND;TZID=America/Denver:20240805T040001
LOCATION:
SUMMARY:Art in the Beartooths- Silent Auction Art Exhibition
END:VEVENT
END:VCALENDAR
