BEGIN:VCALENDAR
VERSION:2.0
PRODID:-//carboncountydepotgallery.org//NONSGML kigkonsult.se iCalcreator 2
 .30.10//
CALSCALE:GREGORIAN
METHOD:PUBLISH
UID:ef638882-6de0-4aae-834a-b7ede91e37ec
X-WR-CALDESC:From 2-4 p.m. enjoy the kick-off party for Art in the Beartoot
 hs Silent Auction exhibition and fundraiser. Afterwards explore other venu
 es on the Red Lodge Art Walk.
X-WR-RELCALID:5142def368b7d4f37d354943fa014e4b
X-WR-TIMEZONE:America/Denver
BEGIN:VTIMEZONE
TZID:America/Denver
BEGIN:STANDARD
TZNAME:MST
DTSTART:20231105T020000
TZOFFSETFROM:-0600
TZOFFSETTO:-0700
RDATE:20241103T020000
RDATE:20251102T020000
END:STANDARD
BEGIN:DAYLIGHT
TZNAME:MDT
DTSTART:20240310T020000
TZOFFSETFROM:-0700
TZOFFSETTO:-0600
RDATE:20250309T020000
END:DAYLIGHT
END:VTIMEZONE
BEGIN:VEVENT
UID:5e4c470c-d7a5-413c-8356-43002836ebde
DTSTAMP:20260419T230836Z
DESCRIPTION:From 2-4 p.m. enjoy the kick-off party for Art in the Beartooth
 s Silent Auction exhibition and fundraiser. Afterwards explore other venue
 s on the Red Lodge Art Walk.
DTSTART;TZID=America/Denver:20240713T140000
DTEND;TZID=America/Denver:20240713T180000
LOCATION:11 West 8th Street\, Red Lodge\, MT 59068 US
SUMMARY:Art Walk
END:VEVENT
END:VCALENDAR
