BEGIN:VCALENDAR
VERSION:2.0
PRODID:-//carboncountydepotgallery.org//NONSGML kigkonsult.se iCalcreator 2
 .30.10//
CALSCALE:GREGORIAN
METHOD:PUBLISH
UID:1552f387-0d39-4321-8a4a-3f1e3492a423
X-WR-CALDESC:Learn to paint using watercolor and acrylic. Each day will hav
 e a lesson\, demo\, project work time and discussion focusing on fundament
 al skills\, composition and creativity.\n\nGrades 1-3 from 9 am - 11:30 am
 \n\nLimited to 10 students each session.\n\nAll supplies included in regis
 tration fee. Limited scholarship funds available. Please call for more inf
 ormation.
X-WR-RELCALID:76935d4ca7ca960b675c0373e74d2df8
X-WR-TIMEZONE:America/Denver
BEGIN:VTIMEZONE
TZID:America/Denver
BEGIN:STANDARD
TZNAME:MST
DTSTART:20231105T020000
TZOFFSETFROM:-0600
TZOFFSETTO:-0700
RDATE:20241103T020000
RDATE:20251102T020000
END:STANDARD
BEGIN:DAYLIGHT
TZNAME:MDT
DTSTART:20240310T020000
TZOFFSETFROM:-0700
TZOFFSETTO:-0600
RDATE:20250309T020000
END:DAYLIGHT
END:VTIMEZONE
BEGIN:VEVENT
UID:d469aac8-5216-4533-9412-992c624fd2f2
DTSTAMP:20260420T004523Z
DESCRIPTION:Learn to paint using watercolor and acrylic. Each day will have
  a lesson\, demo\, project work time and discussion focusing on fundamenta
 l skills\, composition and creativity.\n\nGrades 1-3 from 9 am - 11:30 am
 \n\nLimited to 10 students each session.\n\nAll supplies included in regis
 tration fee. Limited scholarship funds available. Please call for more inf
 ormation.
DTSTART;TZID=America/Denver:20240715T090000
DTEND;TZID=America/Denver:20240718T113000
LOCATION:
SUMMARY:Painting Camp for Students - Grades 1-3
END:VEVENT
END:VCALENDAR
