BEGIN:VCALENDAR
VERSION:2.0
PRODID:-//carboncountydepotgallery.org//NONSGML kigkonsult.se iCalcreator 2
 .30.10//
CALSCALE:GREGORIAN
METHOD:PUBLISH
UID:d12c20fb-e2cf-45a3-b12c-fb605d6ef65b
X-WR-CALDESC:For those who enjoy seeing their favorite regional artists upf
 ront and in action\, attending the Art in the Beartooths 2024 Quick Finish
  and Live Auction is a great way to have fun while supporting the arts. \n
 \nJoin us Saturday\, August 3 from 10 a.m. to 2 p.m. at the Red Lodge Ales
  Outdoor Event Center.  Ticket holders will be able to watch and interact 
 with 20 featured artists as they put the finishing touches on their art\, 
 which will subsequently be auctioned off at the close of the event. \n\nQu
 ick Finish artists include\, Cate Allen\, Ty Barhaug\, Carol Barmore\, Mag
 gie Bassett\, Elliott Eaton\, Bonnie Zahn Griffith\, Carol Hartman\, Lance
  Johnson\, John Kennedy\, Brenna Kimbro\, Mike Koski\, Michael Kosorok\, T
 ess Lehman\, Bruce Marty\, Janice Polzin\, Cliff Rossberg\, Ron Ukrainetz\
 , Lee Walker\, and Tom Wolfe.\n\n“Art in the Beartooths is one of my favor
 ite Red Lodge events\,” said Pam Wagner\, art enthusiast and owner of Junc
 tion 7 in Red Lodge.  “I especially enjoy interacting with the artists in 
 their element. They are very approachable and eager to share insights into
  their work. The Quick Finish is like a backstage pass that gets you behin
 d-the-scenes before the excitement of the live auction.”\n\nTickets are $5
 0 per person if purchased by July 13. On July 14\, tickets will be $65 per
  person. Price includes delicious food catered by Wild Table\, complimenta
 ry beverages (cash bar also available)\, live music by Cory Johnson\, and 
 the opportunity to mingle with the artists. Quinn Donovan\, owner and mana
 ger of First Montana Title in Billings and Red Lodge\, is the auctioneer f
 or the event. \n\nPurchase tickets online\, in person\, or over the phone 
 by calling the Depot Gallery at (406) 446-1370. \n\nThank you to our spons
 ors!\nGold Level Sponsor - Jo Ann Eder\nSilver Level Sponsors - Bank of Re
 d Lodge\, Coal Creek Realty\, and Barbara Ostrum \n
X-WR-RELCALID:4f597511e5b1af3e86fa6bceb2eef666
X-WR-TIMEZONE:America/Denver
BEGIN:VTIMEZONE
TZID:America/Denver
BEGIN:STANDARD
TZNAME:MST
DTSTART:20231105T020000
TZOFFSETFROM:-0600
TZOFFSETTO:-0700
RDATE:20241103T020000
RDATE:20251102T020000
END:STANDARD
BEGIN:DAYLIGHT
TZNAME:MDT
DTSTART:20240310T020000
TZOFFSETFROM:-0700
TZOFFSETTO:-0600
RDATE:20250309T020000
END:DAYLIGHT
END:VTIMEZONE
BEGIN:VEVENT
UID:d8e70537-2567-4016-9e8a-e8b5596b39a3
DTSTAMP:20260420T004518Z
DESCRIPTION:For those who enjoy seeing their favorite regional artists upfr
 ont and in action\, attending the Art in the Beartooths 2024 Quick Finish 
 and Live Auction is a great way to have fun while supporting the arts. \n
 \nJoin us Saturday\, August 3 from 10 a.m. to 2 p.m. at the Red Lodge Ales
  Outdoor Event Center.  Ticket holders will be able to watch and interact 
 with 20 featured artists as they put the finishing touches on their art\, 
 which will subsequently be auctioned off at the close of the event. \n\nQu
 ick Finish artists include\, Cate Allen\, Ty Barhaug\, Carol Barmore\, Mag
 gie Bassett\, Elliott Eaton\, Bonnie Zahn Griffith\, Carol Hartman\, Lance
  Johnson\, John Kennedy\, Brenna Kimbro\, Mike Koski\, Michael Kosorok\, T
 ess Lehman\, Bruce Marty\, Janice Polzin\, Cliff Rossberg\, Ron Ukrainetz\
 , Lee Walker\, and Tom Wolfe.\n\n“Art in the Beartooths is one of my favor
 ite Red Lodge events\,” said Pam Wagner\, art enthusiast and owner of Junc
 tion 7 in Red Lodge.  “I especially enjoy interacting with the artists in 
 their element. They are very approachable and eager to share insights into
  their work. The Quick Finish is like a backstage pass that gets you behin
 d-the-scenes before the excitement of the live auction.”\n\nTickets are $5
 0 per person if purchased by July 13. On July 14\, tickets will be $65 per
  person. Price includes delicious food catered by Wild Table\, complimenta
 ry beverages (cash bar also available)\, live music by Cory Johnson\, and 
 the opportunity to mingle with the artists. Quinn Donovan\, owner and mana
 ger of First Montana Title in Billings and Red Lodge\, is the auctioneer f
 or the event. \n\nPurchase tickets online\, in person\, or over the phone 
 by calling the Depot Gallery at (406) 446-1370. \n\nThank you to our spons
 ors!\nGold Level Sponsor - Jo Ann Eder\nSilver Level Sponsors - Bank of Re
 d Lodge\, Coal Creek Realty\, and Barbara Ostrum \n
DTSTART;TZID=America/Denver:20240803T100000
DTEND;TZID=America/Denver:20240803T140000
LOCATION:Red Lodge Ales Event Center\, 1445 Broadway Avenue N\, Red Lodge\,
  MT 59068 US
SUMMARY:Quick Finish & Live Auction\, Art in the Beartooths
END:VEVENT
END:VCALENDAR
