BEGIN:VCALENDAR
VERSION:2.0
PRODID:-//carboncountydepotgallery.org//NONSGML kigkonsult.se iCalcreator 2
 .30.10//
CALSCALE:GREGORIAN
METHOD:PUBLISH
UID:a702bcb9-f0de-44d5-aab5-ebec0991fd57
X-WR-CALDESC:Join Instructor Betina Johnson for this fun class and create y
 our own lively mixed media collage piece.\nAll skill levels welcome\, clas
 s size limited to 10.\nMost supplies provided.\n\n$40 for CCAG members\, $
 50 for non-members\n\nCancellation Policy:\nIf the participant cancels one
  week or more prior to the start of class\, the registration cost will be 
 refunded less a $10 processing fee. Registrations cancelled by the partici
 pant less than 7 days prior to the day of the class will not be refunded. 
 If class is cancelled by the Arts Guild\, registrations will be refunded a
 t 100%.
X-WR-RELCALID:f4b2e91dfc5d9878d6d436d3bfce8b70
X-WR-TIMEZONE:America/Denver
BEGIN:VTIMEZONE
TZID:America/Denver
BEGIN:STANDARD
TZNAME:MST
DTSTART:20231105T020000
TZOFFSETFROM:-0600
TZOFFSETTO:-0700
RDATE:20241103T020000
RDATE:20251102T020000
END:STANDARD
BEGIN:DAYLIGHT
TZNAME:MDT
DTSTART:20240310T020000
TZOFFSETFROM:-0700
TZOFFSETTO:-0600
RDATE:20250309T020000
END:DAYLIGHT
END:VTIMEZONE
BEGIN:VEVENT
UID:ee4866e1-fd22-4add-a2cb-4b89c1efcc46
DTSTAMP:20260420T004218Z
DESCRIPTION:Join Instructor Betina Johnson for this fun class and create yo
 ur own lively mixed media collage piece.\nAll skill levels welcome\, class
  size limited to 10.\nMost supplies provided.\n\n$40 for CCAG members\, $5
 0 for non-members\n\nCancellation Policy:\nIf the participant cancels one 
 week or more prior to the start of class\, the registration cost will be r
 efunded less a $10 processing fee. Registrations cancelled by the particip
 ant less than 7 days prior to the day of the class will not be refunded. I
 f class is cancelled by the Arts Guild\, registrations will be refunded at
  100%.
DTSTART;TZID=America/Denver:20240817T100000
DTEND;TZID=America/Denver:20240817T150000
LOCATION:
SUMMARY:Mixed Media Collage
END:VEVENT
END:VCALENDAR
