BEGIN:VCALENDAR
VERSION:2.0
PRODID:-//carboncountydepotgallery.org//NONSGML kigkonsult.se iCalcreator 2
 .30.10//
CALSCALE:GREGORIAN
METHOD:PUBLISH
UID:bd59b095-def9-442d-af17-4084ac8a475f
X-WR-CALDESC:
X-WR-RELCALID:df3d72a5016e68b60ee4619eb3490c3d
X-WR-TIMEZONE:America/Denver
BEGIN:VTIMEZONE
TZID:America/Denver
BEGIN:STANDARD
TZNAME:MST
DTSTART:20231105T020000
TZOFFSETFROM:-0600
TZOFFSETTO:-0700
RDATE:20241103T020000
RDATE:20251102T020000
END:STANDARD
BEGIN:DAYLIGHT
TZNAME:MDT
DTSTART:20240310T020000
TZOFFSETFROM:-0700
TZOFFSETTO:-0600
RDATE:20250309T020000
END:DAYLIGHT
END:VTIMEZONE
BEGIN:VEVENT
UID:5857932a-97ee-4e66-bfdd-3d35b1ec8fda
DTSTAMP:20260420T023325Z
DESCRIPTION:
DTSTART;TZID=America/Denver:20240902T090000
DTEND;TZID=America/Denver:20240902T160000
LOCATION:
SUMMARY:45th LABOR DAY ARTS FAIR
END:VEVENT
END:VCALENDAR
