BEGIN:VCALENDAR
VERSION:2.0
PRODID:-//carboncountydepotgallery.org//NONSGML kigkonsult.se iCalcreator 2
 .30.10//
CALSCALE:GREGORIAN
METHOD:PUBLISH
UID:96a11865-a47b-4fbd-8568-b67c0b7c78e0
X-WR-CALDESC:Red Lodge Art Walk takes place at various organizations and bu
 sinesses throughout the town. Meet artists\, watch demonstrations of art t
 echniques and see amazing art. \n\nStart at the Carbon County Arts Guild w
 here there is plenty of parking and then wander down the street for more a
 rt and activities.
X-WR-RELCALID:8471ad72cfb72d02b1120d727886c8c2
X-WR-TIMEZONE:America/Denver
BEGIN:VTIMEZONE
TZID:America/Denver
BEGIN:STANDARD
TZNAME:MST
DTSTART:20231105T020000
TZOFFSETFROM:-0600
TZOFFSETTO:-0700
RDATE:20241103T020000
RDATE:20251102T020000
END:STANDARD
BEGIN:DAYLIGHT
TZNAME:MDT
DTSTART:20240310T020000
TZOFFSETFROM:-0700
TZOFFSETTO:-0600
RDATE:20250309T020000
RDATE:20260308T020000
END:DAYLIGHT
END:VTIMEZONE
BEGIN:VEVENT
UID:4e09fb85-c40e-4a17-b174-73281608e9bb
DTSTAMP:20260420T024116Z
DESCRIPTION:Red Lodge Art Walk takes place at various organizations and bus
 inesses throughout the town. Meet artists\, watch demonstrations of art te
 chniques and see amazing art. \n\nStart at the Carbon County Arts Guild wh
 ere there is plenty of parking and then wander down the street for more ar
 t and activities.
DTSTART;TZID=America/Denver:20240914T140000
DTEND;TZID=America/Denver:20240914T180000
LOCATION:
SUMMARY:ART WALK
END:VEVENT
END:VCALENDAR
