BEGIN:VCALENDAR
VERSION:2.0
PRODID:-//carboncountydepotgallery.org//NONSGML kigkonsult.se iCalcreator 2
 .30.10//
CALSCALE:GREGORIAN
METHOD:PUBLISH
UID:22ca2939-e847-4e31-bad9-3b62265b027b
X-WR-CALDESC:Join us for a reception for two exhibitions: the Beartooth Ple
 in Air Society and the Carbon County Arts Guild Members Photography Showca
 se. Meet the artists and see their art while enjoying light refreshments. 
 \n\nSaturday\, September 14 is also the Red Lodge Art Walk from 2-6 p.m. S
 tart at the Depot Gallery and work your way downtown for an afternoon of c
 ultural experiences. \n
X-WR-RELCALID:11c62e516ceddc8feb9c1ff1e4f5bee2
X-WR-TIMEZONE:America/Denver
BEGIN:VTIMEZONE
TZID:America/Denver
BEGIN:STANDARD
TZNAME:MST
DTSTART:20231105T020000
TZOFFSETFROM:-0600
TZOFFSETTO:-0700
RDATE:20241103T020000
RDATE:20251102T020000
END:STANDARD
BEGIN:DAYLIGHT
TZNAME:MDT
DTSTART:20240310T020000
TZOFFSETFROM:-0700
TZOFFSETTO:-0600
RDATE:20250309T020000
RDATE:20260308T020000
END:DAYLIGHT
END:VTIMEZONE
BEGIN:VEVENT
UID:b3ef3c52-5cb5-419e-8e1a-2ace02ed9300
DTSTAMP:20260420T024045Z
DESCRIPTION:Join us for a reception for two exhibitions: the Beartooth Plei
 n Air Society and the Carbon County Arts Guild Members Photography Showcas
 e. Meet the artists and see their art while enjoying light refreshments. 
 \n\nSaturday\, September 14 is also the Red Lodge Art Walk from 2-6 p.m. S
 tart at the Depot Gallery and work your way downtown for an afternoon of c
 ultural experiences. \n
DTSTART;TZID=America/Denver:20240914T140000
DTEND;TZID=America/Denver:20240914T160000
LOCATION:
SUMMARY:OPENING Reception
END:VEVENT
END:VCALENDAR
