BEGIN:VCALENDAR
VERSION:2.0
PRODID:-//carboncountydepotgallery.org//NONSGML kigkonsult.se iCalcreator 2
 .30.10//
CALSCALE:GREGORIAN
METHOD:PUBLISH
UID:061bb09c-5438-484a-bf1f-27b14b0492c0
X-WR-CALDESC:Bring your own drawing supplies and sketch from a clothed mode
 l.\nAll skill levels welcome.\n\n2-4 pm\, every third Sunday\, September t
 hru May\nNo Registration needed.\n$5 for non-member\, FREE for members and
  students 18 and under.
X-WR-RELCALID:9a91187f5aff4554a2da9de3c4d1d694
X-WR-TIMEZONE:America/Denver
BEGIN:VTIMEZONE
TZID:America/Denver
BEGIN:STANDARD
TZNAME:MST
DTSTART:20231105T020000
TZOFFSETFROM:-0600
TZOFFSETTO:-0700
RDATE:20241103T020000
RDATE:20251102T020000
END:STANDARD
BEGIN:DAYLIGHT
TZNAME:MDT
DTSTART:20240310T020000
TZOFFSETFROM:-0700
TZOFFSETTO:-0600
RDATE:20250309T020000
RDATE:20260308T020000
END:DAYLIGHT
END:VTIMEZONE
BEGIN:VEVENT
UID:00348d60-f12c-466d-a0f3-bdb850f585d8
DTSTAMP:20260420T042715Z
DESCRIPTION:Bring your own drawing supplies and sketch from a clothed model
 .\nAll skill levels welcome.\n\n2-4 pm\, every third Sunday\, September th
 ru May\nNo Registration needed.\n$5 for non-member\, FREE for members and 
 students 18 and under.
DTSTART;TZID=America/Denver:20240915T140000
DTEND;TZID=America/Denver:20240915T160000
LOCATION:
SUMMARY:Open Studio: Figure Drawing
END:VEVENT
END:VCALENDAR
