BEGIN:VCALENDAR
VERSION:2.0
PRODID:-//carboncountydepotgallery.org//NONSGML kigkonsult.se iCalcreator 2
 .30.10//
CALSCALE:GREGORIAN
METHOD:PUBLISH
UID:98fa5db0-1553-4126-b841-9d0b5f48ab14
X-WR-CALDESC:Enhance your artwork with the warmth and lustre of a gilded fr
 ame. Join instructor\nBruce Marty to learn the art of applying and finishi
 ng metal leaf\, along with aspects of repair\, shortcuts and antiquing. Pa
 rticipants will gold leaf a frame to keep. \n\n$45 for members  |  $50 for
  non-members\nAll supplies\, including frame\, are included in the registr
 ation fee.\n10 a.m.-2 p.m.\nAll skill levels welcome.\nClass size limited 
 to 10.\n\nCancellation Policy:\nIf the participant cancels one week or mor
 e prior to the start of class\, the registration cost will be refunded les
 s a $10 processing fee. Registrations cancelled by the participant less th
 an 7 days prior to the day of the class will not be refunded. If class is 
 cancelled by the Arts Guild\, registrations will be refunded at 100%.\n\n
 \n
X-WR-RELCALID:59a0674f71d4eb359c2a1ff8737bf0f9
X-WR-TIMEZONE:America/Denver
BEGIN:VTIMEZONE
TZID:America/Denver
BEGIN:STANDARD
TZNAME:MST
DTSTART:20231105T020000
TZOFFSETFROM:-0600
TZOFFSETTO:-0700
RDATE:20241103T020000
RDATE:20251102T020000
END:STANDARD
BEGIN:DAYLIGHT
TZNAME:MDT
DTSTART:20240310T020000
TZOFFSETFROM:-0700
TZOFFSETTO:-0600
RDATE:20250309T020000
RDATE:20260308T020000
END:DAYLIGHT
END:VTIMEZONE
BEGIN:VEVENT
UID:e8493523-960c-4504-94f8-16b736bfe80a
DTSTAMP:20260420T023406Z
DESCRIPTION:Enhance your artwork with the warmth and lustre of a gilded fra
 me. Join instructor\nBruce Marty to learn the art of applying and finishin
 g metal leaf\, along with aspects of repair\, shortcuts and antiquing. Par
 ticipants will gold leaf a frame to keep. \n\n$45 for members  |  $50 for 
 non-members\nAll supplies\, including frame\, are included in the registra
 tion fee.\n10 a.m.-2 p.m.\nAll skill levels welcome.\nClass size limited t
 o 10.\n\nCancellation Policy:\nIf the participant cancels one week or more
  prior to the start of class\, the registration cost will be refunded less
  a $10 processing fee. Registrations cancelled by the participant less tha
 n 7 days prior to the day of the class will not be refunded. If class is c
 ancelled by the Arts Guild\, registrations will be refunded at 100%.\n\n\n
DTSTART;TZID=America/Denver:20240921T100000
DTEND;TZID=America/Denver:20240921T140000
LOCATION:
SUMMARY:Learn to Apply Gold Leaf
END:VEVENT
END:VCALENDAR
