BEGIN:VCALENDAR
VERSION:2.0
PRODID:-//carboncountydepotgallery.org//NONSGML kigkonsult.se iCalcreator 2
 .30.10//
CALSCALE:GREGORIAN
METHOD:PUBLISH
UID:d270c0fd-29ff-4c3b-b975-d1a355316356
X-WR-CALDESC:The Beartooth Plein Air Society showcases a wide array of styl
 e and use of color to depict the landscape in our area. \n\nRECEPTION is 2
 -4 p.m.\, Saturday\, September 14\, 2024. Light refreshments will be serve
 d. This event is free and open to the public.
X-WR-RELCALID:c68948f6144f51d8899f83bff843893b
X-WR-TIMEZONE:America/Denver
BEGIN:VTIMEZONE
TZID:America/Denver
BEGIN:STANDARD
TZNAME:MST
DTSTART:20231105T020000
TZOFFSETFROM:-0600
TZOFFSETTO:-0700
RDATE:20241103T020000
RDATE:20251102T020000
END:STANDARD
BEGIN:DAYLIGHT
TZNAME:MDT
DTSTART:20240310T020000
TZOFFSETFROM:-0700
TZOFFSETTO:-0600
RDATE:20250309T020000
END:DAYLIGHT
END:VTIMEZONE
BEGIN:VEVENT
UID:2bd46aa0-1324-4000-b1d0-e7c4c32755dc
DTSTAMP:20260420T023123Z
DESCRIPTION:The Beartooth Plein Air Society showcases a wide array of style
  and use of color to depict the landscape in our area. \n\nRECEPTION is 2-
 4 p.m.\, Saturday\, September 14\, 2024. Light refreshments will be served
 . This event is free and open to the public.
DTSTART;TZID=America/Denver:20240831T040000
DTEND;TZID=America/Denver:20240930T040001
LOCATION:
SUMMARY:Beartooth Plein Air Society
END:VEVENT
END:VCALENDAR
