BEGIN:VCALENDAR
VERSION:2.0
PRODID:-//carboncountydepotgallery.org//NONSGML kigkonsult.se iCalcreator 2
 .30.10//
CALSCALE:GREGORIAN
METHOD:PUBLISH
UID:42e3551c-3fda-4961-873c-a23e417112ba
X-WR-CALDESC:Carbon County Arts Guild & Depot Gallery is closed for staff t
 o rest and attend a professional development and exhibition conference.
X-WR-RELCALID:69d417c18cbe15ddaf69175802920a88
X-WR-TIMEZONE:America/Denver
BEGIN:VTIMEZONE
TZID:America/Denver
BEGIN:STANDARD
TZNAME:MST
DTSTART:20231105T020000
TZOFFSETFROM:-0600
TZOFFSETTO:-0700
RDATE:20241103T020000
RDATE:20251102T020000
END:STANDARD
BEGIN:DAYLIGHT
TZNAME:MDT
DTSTART:20240310T020000
TZOFFSETFROM:-0700
TZOFFSETTO:-0600
RDATE:20250309T020000
RDATE:20260308T020000
END:DAYLIGHT
END:VTIMEZONE
BEGIN:VEVENT
UID:9b0f3d1f-7729-4d60-afff-13679c209899
DTSTAMP:20260425T154203Z
DESCRIPTION:Carbon County Arts Guild & Depot Gallery is closed for staff to
  rest and attend a professional development and exhibition conference.
DTSTART;TZID=America/Denver:20240927T040000
DTEND;TZID=America/Denver:20241004T040001
LOCATION:
SUMMARY:DEPOT GALLERY IS CLOSED
END:VEVENT
END:VCALENDAR
