BEGIN:VCALENDAR
VERSION:2.0
PRODID:-//carboncountydepotgallery.org//NONSGML kigkonsult.se iCalcreator 2
 .30.10//
CALSCALE:GREGORIAN
METHOD:PUBLISH
UID:05f3a732-1502-49a1-aa8f-2829f023e365
X-WR-CALDESC:We invite you to take time to make art during the last Art Wal
 k of the season.  \n\nAll ages are invited to stop by the Carbon County Ar
 ts Guild & Depot Gallery and create. Each person will be given a 6'x6' pan
 el and the supplies needed to make a piece of art. Paint\, color\, collage
 \, draw\, doodle...there is no limit on what you can do. \n\nEach piece cr
 eated will be put on display in the 6x6 Community Mystery Show that will o
 pen 4-6 p.m.\, November 23 with a fun party where all pieces will be avail
 able for $36. For details visit the calendar of events on this website. \n
 \nThe 6x6 Community Mystery Show will be view November 23-December 21\, 20
 24. \n\nIn addition\, view the 'Generations' Exhibitions featuring work fr
 om the Eaton\, Johnson\, Mackay\, and Ringer families. All artists who hav
 e multiple generations of artists and who have been connected to the Arts 
 Guild.\n\nThis event is free and open to the public.
X-WR-RELCALID:e5ea0376e660d87762e9e2aceea444b5
X-WR-TIMEZONE:America/Denver
BEGIN:VTIMEZONE
TZID:America/Denver
BEGIN:STANDARD
TZNAME:MST
DTSTART:20231105T020000
TZOFFSETFROM:-0600
TZOFFSETTO:-0700
RDATE:20241103T020000
RDATE:20251102T020000
END:STANDARD
BEGIN:DAYLIGHT
TZNAME:MDT
DTSTART:20240310T020000
TZOFFSETFROM:-0700
TZOFFSETTO:-0600
RDATE:20250309T020000
RDATE:20260308T020000
END:DAYLIGHT
END:VTIMEZONE
BEGIN:VEVENT
UID:c287c2cf-d10b-45a2-b3bc-3fbf05603cba
DTSTAMP:20260425T154648Z
DESCRIPTION:We invite you to take time to make art during the last Art Walk
  of the season.  \n\nAll ages are invited to stop by the Carbon County Art
 s Guild & Depot Gallery and create. Each person will be given a 6'x6' pane
 l and the supplies needed to make a piece of art. Paint\, color\, collage\
 , draw\, doodle...there is no limit on what you can do. \n\nEach piece cre
 ated will be put on display in the 6x6 Community Mystery Show that will op
 en 4-6 p.m.\, November 23 with a fun party where all pieces will be availa
 ble for $36. For details visit the calendar of events on this website. \n
 \nThe 6x6 Community Mystery Show will be view November 23-December 21\, 20
 24. \n\nIn addition\, view the 'Generations' Exhibitions featuring work fr
 om the Eaton\, Johnson\, Mackay\, and Ringer families. All artists who hav
 e multiple generations of artists and who have been connected to the Arts 
 Guild.\n\nThis event is free and open to the public.
DTSTART;TZID=America/Denver:20241012T140000
DTEND;TZID=America/Denver:20241012T180000
LOCATION:
SUMMARY:ART WALK -Make a 6x6 Piece of Art
END:VEVENT
END:VCALENDAR
