BEGIN:VCALENDAR
VERSION:2.0
PRODID:-//carboncountydepotgallery.org//NONSGML kigkonsult.se iCalcreator 2
 .30.10//
CALSCALE:GREGORIAN
METHOD:PUBLISH
UID:47f5de18-6cd0-48a8-8fd0-0b4800d18794
X-WR-CALDESC:Enhance plain doilies into vibrant works of art in this fun an
 d easy workshop with Marie Shirley-Jones. Perfect for holiday gifts or to 
 brighten your home. \n\n$25 CCAG Members\, $35 Non-Members\nAll supplies i
 ncluded. No experience necessary.\n\nSunday\, November 10 from 1-3 pm
X-WR-RELCALID:fc96150ec50ead5db34cbe1973ad6ef8
X-WR-TIMEZONE:America/Denver
BEGIN:VTIMEZONE
TZID:America/Denver
BEGIN:STANDARD
TZNAME:MST
DTSTART:20241103T020000
TZOFFSETFROM:-0600
TZOFFSETTO:-0700
RDATE:20251102T020000
END:STANDARD
BEGIN:DAYLIGHT
TZNAME:MDT
DTSTART:20240310T020000
TZOFFSETFROM:-0700
TZOFFSETTO:-0600
RDATE:20250309T020000
RDATE:20260308T020000
END:DAYLIGHT
END:VTIMEZONE
BEGIN:VEVENT
UID:c07d9998-a8d4-4f0a-acb8-0d90b6705062
DTSTAMP:20260425T135218Z
DESCRIPTION:Enhance plain doilies into vibrant works of art in this fun and
  easy workshop with Marie Shirley-Jones. Perfect for holiday gifts or to b
 righten your home. \n\n$25 CCAG Members\, $35 Non-Members\nAll supplies in
 cluded. No experience necessary.\n\nSunday\, November 10 from 1-3 pm
DTSTART;TZID=America/Denver:20241110T130000
DTEND;TZID=America/Denver:20241110T150000
LOCATION:
SUMMARY:Dyed Doilies Workshop
END:VEVENT
END:VCALENDAR
