BEGIN:VCALENDAR
VERSION:2.0
PRODID:-//carboncountydepotgallery.org//NONSGML kigkonsult.se iCalcreator 2
 .30.10//
CALSCALE:GREGORIAN
METHOD:PUBLISH
UID:646c6a26-e6f1-4052-8f9b-2a7062e69acb
X-WR-CALDESC:Generations Exhibition features work by artists who are Guild 
 members and have creative connections within their family. And each artist
  has had some connection to the community and to the Arts Guild in some ca
 pacity.\n\nArtists include:\nElliott Eaton and grandson\, Battista Eaton\n
 Willis Johnson and dad Lyle Johnson\, brother Tyrel Johnson\nHelen Mackay 
 and mother Joyce Mackay\nCharles Ringer\, sister Suzanne deLesseps\, and m
 other Mary Ringer \n\nThursday\, October 10\, 2024 from 5:30-7 p.m. is the
  opening reception with a Gallery talk at 6 p.m. by the artists. This is f
 ree and open to the public.\n\n\n\n\n          \n\n                       
     \n
X-WR-RELCALID:000455e6700457df7537ee0bee5909b0
X-WR-TIMEZONE:America/Denver
BEGIN:VTIMEZONE
TZID:America/Denver
BEGIN:STANDARD
TZNAME:MST
DTSTART:20231105T020000
TZOFFSETFROM:-0600
TZOFFSETTO:-0700
RDATE:20241103T020000
RDATE:20251102T020000
END:STANDARD
BEGIN:DAYLIGHT
TZNAME:MDT
DTSTART:20240310T020000
TZOFFSETFROM:-0700
TZOFFSETTO:-0600
RDATE:20250309T020000
RDATE:20260308T020000
END:DAYLIGHT
END:VTIMEZONE
BEGIN:VEVENT
UID:1a07066a-706b-49e3-b9bc-d527f95252d8
DTSTAMP:20260425T135532Z
DESCRIPTION:Generations Exhibition features work by artists who are Guild m
 embers and have creative connections within their family. And each artist 
 has had some connection to the community and to the Arts Guild in some cap
 acity.\n\nArtists include:\nElliott Eaton and grandson\, Battista Eaton\nW
 illis Johnson and dad Lyle Johnson\, brother Tyrel Johnson\nHelen Mackay a
 nd mother Joyce Mackay\nCharles Ringer\, sister Suzanne deLesseps\, and mo
 ther Mary Ringer \n\nThursday\, October 10\, 2024 from 5:30-7 p.m. is the 
 opening reception with a Gallery talk at 6 p.m. by the artists. This is fr
 ee and open to the public.\n\n\n\n\n          \n\n                        
    \n
DTSTART;TZID=America/Denver:20241010T040000
DTEND;TZID=America/Denver:20241116T040001
LOCATION:
SUMMARY:'Generations Exhibition'
END:VEVENT
END:VCALENDAR
