BEGIN:VCALENDAR
VERSION:2.0
PRODID:-//carboncountydepotgallery.org//NONSGML kigkonsult.se iCalcreator 2
 .30.10//
CALSCALE:GREGORIAN
METHOD:PUBLISH
UID:7f212525-6916-4165-bcd2-dc9a703d2709
X-WR-CALDESC:This exhibition features creative photography work by members 
 of the Carbon County Arts Guild & Depot Gallery. Artists include Chad Barn
 es\, Dana Barnes\, Ryan Drewes\, Wayne McClane\, Cat Pentescu\, and Shawn 
 Stewart.\n
X-WR-RELCALID:9bed871334b07ab2d59e5f496676f0ba
X-WR-TIMEZONE:America/Denver
BEGIN:VTIMEZONE
TZID:America/Denver
BEGIN:STANDARD
TZNAME:MST
DTSTART:20231105T020000
TZOFFSETFROM:-0600
TZOFFSETTO:-0700
RDATE:20241103T020000
RDATE:20251102T020000
END:STANDARD
BEGIN:DAYLIGHT
TZNAME:MDT
DTSTART:20240310T020000
TZOFFSETFROM:-0700
TZOFFSETTO:-0600
RDATE:20250309T020000
END:DAYLIGHT
END:VTIMEZONE
BEGIN:VEVENT
UID:b315aa4b-fa24-423e-b76d-1521f2467116
DTSTAMP:20260425T134943Z
DESCRIPTION:This exhibition features creative photography work by members o
 f the Carbon County Arts Guild & Depot Gallery. Artists include Chad Barne
 s\, Dana Barnes\, Ryan Drewes\, Wayne McClane\, Cat Pentescu\, and Shawn S
 tewart.\n
DTSTART;TZID=America/Denver:20240831T040000
DTEND;TZID=America/Denver:20241116T040001
LOCATION:
SUMMARY:Photography Showcase: Guild Members Exhibition EXTENDED
END:VEVENT
END:VCALENDAR
