BEGIN:VCALENDAR
VERSION:2.0
PRODID:-//carboncountydepotgallery.org//NONSGML kigkonsult.se iCalcreator 2
 .30.10//
CALSCALE:GREGORIAN
METHOD:PUBLISH
UID:99e21a42-c3f4-4d0d-bb4f-fe102605ff95
X-WR-CALDESC:Bring your own drawing supplies and sketch from a clothed mode
 l.\nAll skill levels welcome.\n\n2-4 pm\, every third Sunday\, September t
 hru May\nNo Registration needed.\n$5 for non-member\, FREE for members and
  students 18 and under.
X-WR-RELCALID:7d4df1018dbb1e5ad12a65d9efb4d110
X-WR-TIMEZONE:America/Denver
BEGIN:VTIMEZONE
TZID:America/Denver
BEGIN:STANDARD
TZNAME:MST
DTSTART:20241103T020000
TZOFFSETFROM:-0600
TZOFFSETTO:-0700
RDATE:20251102T020000
END:STANDARD
BEGIN:DAYLIGHT
TZNAME:MDT
DTSTART:20240310T020000
TZOFFSETFROM:-0700
TZOFFSETTO:-0600
RDATE:20250309T020000
RDATE:20260308T020000
END:DAYLIGHT
END:VTIMEZONE
BEGIN:VEVENT
UID:a1769761-ed03-45cb-8478-76b24c924d67
DTSTAMP:20260425T135045Z
DESCRIPTION:Bring your own drawing supplies and sketch from a clothed model
 .\nAll skill levels welcome.\n\n2-4 pm\, every third Sunday\, September th
 ru May\nNo Registration needed.\n$5 for non-member\, FREE for members and 
 students 18 and under.
DTSTART;TZID=America/Denver:20241117T140000
DTEND;TZID=America/Denver:20241117T160000
LOCATION:
SUMMARY:Open Studio: Figure Drawing
END:VEVENT
END:VCALENDAR
