BEGIN:VCALENDAR
VERSION:2.0
PRODID:-//carboncountydepotgallery.org//NONSGML kigkonsult.se iCalcreator 2
 .30.10//
CALSCALE:GREGORIAN
METHOD:PUBLISH
UID:aacdaf40-0849-40c1-8184-8e310a8ea2e7
X-WR-CALDESC:It's Hip 2B Square. And to celebrate the 8x8 Guild Members Exh
 ibition AND the 6x6 Mystery Artist Community Show we are having a party. 
 \n\nThere are amazing works in the 8x8 show. Paintings in all styles with 
 prices for all budgets. This exhibition is considered 'cash and carry' whe
 re you like it\; you buy it\, and you take it home that day. \n\nThe 6x6 s
 how is being done for the first time. We have had terrific response from f
 olks all over the area including visitors who sent in their canvases for t
 he show. On view are 140 pieces. \n\nFor the 6x6 Mystery Artist Community 
 Show\, you simply get your name on the list for your favorite piece or pie
 ces of art. At 5 p.m. we will spin a wheel and if your number is called ou
 t\, the piece is yours for a $36 donation to the Arts Guild. When you purc
 hase the piece is when you learn the name of the artist. \n\nGallery doors
  open at 10 a.m. for viewing both the 8x8 and the 6x6 work so you can come
  early to view the art and get your name on the pieces you like. The Hip 2
 B Square party is 4-6 p.m. and when refreshments will be served. \n\n\nThe
  exhibitions and the event is free and open to the public.
X-WR-RELCALID:08f5f913e2da60c35ace9e83dcf28b49
X-WR-TIMEZONE:America/Denver
BEGIN:VTIMEZONE
TZID:America/Denver
BEGIN:STANDARD
TZNAME:MST
DTSTART:20241103T020000
TZOFFSETFROM:-0600
TZOFFSETTO:-0700
RDATE:20251102T020000
END:STANDARD
BEGIN:DAYLIGHT
TZNAME:MDT
DTSTART:20240310T020000
TZOFFSETFROM:-0700
TZOFFSETTO:-0600
RDATE:20250309T020000
RDATE:20260308T020000
END:DAYLIGHT
END:VTIMEZONE
BEGIN:VEVENT
UID:9c703c6a-6101-4f95-a6df-bada5b4e611e
DTSTAMP:20260425T135326Z
DESCRIPTION:It's Hip 2B Square. And to celebrate the 8x8 Guild Members Exhi
 bition AND the 6x6 Mystery Artist Community Show we are having a party. \n
 \nThere are amazing works in the 8x8 show. Paintings in all styles with pr
 ices for all budgets. This exhibition is considered 'cash and carry' where
  you like it\; you buy it\, and you take it home that day. \n\nThe 6x6 sho
 w is being done for the first time. We have had terrific response from fol
 ks all over the area including visitors who sent in their canvases for the
  show. On view are 140 pieces. \n\nFor the 6x6 Mystery Artist Community Sh
 ow\, you simply get your name on the list for your favorite piece or piece
 s of art. At 5 p.m. we will spin a wheel and if your number is called out\
 , the piece is yours for a $36 donation to the Arts Guild. When you purcha
 se the piece is when you learn the name of the artist. \n\nGallery doors o
 pen at 10 a.m. for viewing both the 8x8 and the 6x6 work so you can come e
 arly to view the art and get your name on the pieces you like. The Hip 2B 
 Square party is 4-6 p.m. and when refreshments will be served. \n\n\nThe e
 xhibitions and the event is free and open to the public.
DTSTART;TZID=America/Denver:20241123T160000
DTEND;TZID=America/Denver:20241123T180000
LOCATION:
SUMMARY:HIP 2B SQUARE PARTY
END:VEVENT
END:VCALENDAR
