BEGIN:VCALENDAR
VERSION:2.0
PRODID:-//carboncountydepotgallery.org//NONSGML kigkonsult.se iCalcreator 2
 .30.10//
CALSCALE:GREGORIAN
METHOD:PUBLISH
UID:73a5f7f0-92b7-4e42-983b-835ec593809a
X-WR-CALDESC:Create a beautiful ornament with simple lines and shapes using
  the Zentangle method of drawing. Easy\, step-by-step instruction from cer
 tified Zentangle teacher Anita Jones. Fun and relaxing - no experience nee
 ded! All supplies provided.\n\nCCAG Members $25\, Non-Members $35\nSunday\
 , December 1 from 1:30-3:30 pm
X-WR-RELCALID:dadfd15e5ac4635789bff271bd3c36f5
X-WR-TIMEZONE:America/Denver
BEGIN:VTIMEZONE
TZID:America/Denver
BEGIN:STANDARD
TZNAME:MST
DTSTART:20241103T020000
TZOFFSETFROM:-0600
TZOFFSETTO:-0700
RDATE:20251102T020000
END:STANDARD
BEGIN:DAYLIGHT
TZNAME:MDT
DTSTART:20240310T020000
TZOFFSETFROM:-0700
TZOFFSETTO:-0600
RDATE:20250309T020000
RDATE:20260308T020000
END:DAYLIGHT
END:VTIMEZONE
BEGIN:VEVENT
UID:358ec00e-4b7f-4c8d-8c00-79750649b6d5
DTSTAMP:20260425T120208Z
DESCRIPTION:Create a beautiful ornament with simple lines and shapes using 
 the Zentangle method of drawing. Easy\, step-by-step instruction from cert
 ified Zentangle teacher Anita Jones. Fun and relaxing - no experience need
 ed! All supplies provided.\n\nCCAG Members $25\, Non-Members $35\nSunday\,
  December 1 from 1:30-3:30 pm
DTSTART;TZID=America/Denver:20241201T133000
DTEND;TZID=America/Denver:20241201T153000
LOCATION:
SUMMARY:Zentangle Ornament Workshop
END:VEVENT
END:VCALENDAR
