BEGIN:VCALENDAR
VERSION:2.0
PRODID:-//carboncountydepotgallery.org//NONSGML kigkonsult.se iCalcreator 2
 .30.10//
CALSCALE:GREGORIAN
METHOD:PUBLISH
UID:f006454d-6b90-4777-ad3b-b33247779169
X-WR-CALDESC:This new exhibition is designed for all ages and skill levels.
  It is a fun way for be creative. There is no limit on subject matter or m
 edium. All we ask is the piece is 6'x6'\, with the signature on the back o
 f the piece. This will help us keep it a 'mystery' about who did the piece
  until someone makes a purchase. \n\nInitial pieces could be purchase for 
 a $36 donation during the 'mystery party' with all donations used to suppo
 rt the programs we offer. Each week after the 'mystery party' the amount o
 f donation will be lessened by $6. \n\n\nTo participate\, call or visit th
 e Arts Guild and we will issue a free 6'x6' canvas or panel to anyone who 
 asks. We'll add your name to the sign up list for the show. Then let your 
 creative spirit go and make a piece for us to sell. Use crayon\, pencil\, 
 paint\, collage\, fiber\, ink\, pastel\, colored pencil\, or any medium yo
 u like. All pieces must be turned in by 4 p.m. Sunday\, Nov 17.\n\nIf you 
 have questions\, want to sign up or get a free panel\, please call the Art
 s Guild at (406) 446-1370. Or stop in at 11 West 8th Street in Red Lodge\,
  10 a.m.-5 p.m. on Thursday\, Friday and Saturday or 12-4 p.m. on Sunday a
 nd Monday.\n\nThe  'Mystery Party' will take place Saturday\, November 23 
 from 4-6 p.m. This free and open to the public event will include a previe
 w of all the pieces in the 6x6 show from 10 am-5 p.m. At 5 p.m. the buying
  will begin. Artists will be revealed upon purchase.
X-WR-RELCALID:c0c2302b70315904777a5173848a6182
X-WR-TIMEZONE:America/Denver
BEGIN:VTIMEZONE
TZID:America/Denver
BEGIN:STANDARD
TZNAME:MST
DTSTART:20241103T020000
TZOFFSETFROM:-0600
TZOFFSETTO:-0700
RDATE:20251102T020000
END:STANDARD
BEGIN:DAYLIGHT
TZNAME:MDT
DTSTART:20240310T020000
TZOFFSETFROM:-0700
TZOFFSETTO:-0600
RDATE:20250309T020000
RDATE:20260308T020000
END:DAYLIGHT
END:VTIMEZONE
BEGIN:VEVENT
UID:329b15d7-c10b-41a3-9fb9-050e857ebd62
DTSTAMP:20260425T115755Z
DESCRIPTION:This new exhibition is designed for all ages and skill levels. 
 It is a fun way for be creative. There is no limit on subject matter or me
 dium. All we ask is the piece is 6'x6'\, with the signature on the back of
  the piece. This will help us keep it a 'mystery' about who did the piece 
 until someone makes a purchase. \n\nInitial pieces could be purchase for a
  $36 donation during the 'mystery party' with all donations used to suppor
 t the programs we offer. Each week after the 'mystery party' the amount of
  donation will be lessened by $6. \n\n\nTo participate\, call or visit the
  Arts Guild and we will issue a free 6'x6' canvas or panel to anyone who a
 sks. We'll add your name to the sign up list for the show. Then let your c
 reative spirit go and make a piece for us to sell. Use crayon\, pencil\, p
 aint\, collage\, fiber\, ink\, pastel\, colored pencil\, or any medium you
  like. All pieces must be turned in by 4 p.m. Sunday\, Nov 17.\n\nIf you h
 ave questions\, want to sign up or get a free panel\, please call the Arts
  Guild at (406) 446-1370. Or stop in at 11 West 8th Street in Red Lodge\, 
 10 a.m.-5 p.m. on Thursday\, Friday and Saturday or 12-4 p.m. on Sunday an
 d Monday.\n\nThe  'Mystery Party' will take place Saturday\, November 23 f
 rom 4-6 p.m. This free and open to the public event will include a preview
  of all the pieces in the 6x6 show from 10 am-5 p.m. At 5 p.m. the buying 
 will begin. Artists will be revealed upon purchase.
DTSTART;TZID=America/Denver:20241123T040000
DTEND;TZID=America/Denver:20241221T040001
LOCATION:
SUMMARY:6x6 Mystery Artist Community Show
END:VEVENT
END:VCALENDAR
