BEGIN:VCALENDAR
VERSION:2.0
PRODID:-//carboncountydepotgallery.org//NONSGML kigkonsult.se iCalcreator 2
 .30.10//
CALSCALE:GREGORIAN
METHOD:PUBLISH
UID:28d6ef70-dcc8-4649-b357-baf85f50c571
X-WR-CALDESC:This annual exhibition highlights the work by Carbon County Ar
 ts Guild members. The work on view represents a wide variety of subject ma
 tter and mediums. Each piece is 8' x 8' and ready for purchase for yoursel
 f or a friend.\n\nOpening Reception for the 8x8 will be NOVEMBER 23\, duri
 ng the 'Mystery Party' for the 6x6 community show.
X-WR-RELCALID:414f86645974f7c7def2d30097435e96
X-WR-TIMEZONE:America/Denver
BEGIN:VTIMEZONE
TZID:America/Denver
BEGIN:STANDARD
TZNAME:MST
DTSTART:20241103T020000
TZOFFSETFROM:-0600
TZOFFSETTO:-0700
RDATE:20251102T020000
END:STANDARD
BEGIN:DAYLIGHT
TZNAME:MDT
DTSTART:20240310T020000
TZOFFSETFROM:-0700
TZOFFSETTO:-0600
RDATE:20250309T020000
RDATE:20260308T020000
END:DAYLIGHT
END:VTIMEZONE
BEGIN:VEVENT
UID:45492344-11c7-4b4a-a539-4c71d6156c27
DTSTAMP:20260425T120013Z
DESCRIPTION:This annual exhibition highlights the work by Carbon County Art
 s Guild members. The work on view represents a wide variety of subject mat
 ter and mediums. Each piece is 8' x 8' and ready for purchase for yourself
  or a friend.\n\nOpening Reception for the 8x8 will be NOVEMBER 23\, durin
 g the 'Mystery Party' for the 6x6 community show.
DTSTART;TZID=America/Denver:20241123T040000
DTEND;TZID=America/Denver:20241221T040001
LOCATION:
SUMMARY:8x8 Members Exhibition
END:VEVENT
END:VCALENDAR
