BEGIN:VCALENDAR
VERSION:2.0
PRODID:-//carboncountydepotgallery.org//NONSGML kigkonsult.se iCalcreator 2
 .30.10//
CALSCALE:GREGORIAN
METHOD:PUBLISH
UID:db7fc4ed-b15b-492a-8c06-03048f2d9cec
X-WR-CALDESC:CLASS IS FULL - Call for WAITLIST\nLearn to weave on a frame l
 oom sing Susan's own 'Knock Your Socks Off' method... there's no one right
  way to do it! Explore tabby\, twill\, tapestry\, rya\, soumac\, weft face
 d structure\, embellishments\, and more.\nBeginner friendly - no experienc
 e needed.\n\nInstructor: Susan Leaverton\n\nCost: $40 CCAG members\, $50 n
 on-members\; additional $10 material fee paid directly to instructor\nClas
 s limited to 6 people.
X-WR-RELCALID:739806b710c80fd285518545196b7429
X-WR-TIMEZONE:America/Denver
BEGIN:VTIMEZONE
TZID:America/Denver
BEGIN:STANDARD
TZNAME:MST
DTSTART:20241103T020000
TZOFFSETFROM:-0600
TZOFFSETTO:-0700
RDATE:20251102T020000
END:STANDARD
BEGIN:DAYLIGHT
TZNAME:MDT
DTSTART:20240310T020000
TZOFFSETFROM:-0700
TZOFFSETTO:-0600
RDATE:20250309T020000
RDATE:20260308T020000
END:DAYLIGHT
END:VTIMEZONE
BEGIN:VEVENT
UID:6ca52138-b620-441e-a2d7-16d26645069d
DTSTAMP:20260425T115756Z
DESCRIPTION:CLASS IS FULL - Call for WAITLIST\nLearn to weave on a frame lo
 om sing Susan's own 'Knock Your Socks Off' method... there's no one right 
 way to do it! Explore tabby\, twill\, tapestry\, rya\, soumac\, weft faced
  structure\, embellishments\, and more.\nBeginner friendly - no experience
  needed.\n\nInstructor: Susan Leaverton\n\nCost: $40 CCAG members\, $50 no
 n-members\; additional $10 material fee paid directly to instructor\nClass
  limited to 6 people.
DTSTART;TZID=America/Denver:20250118T100000
DTEND;TZID=America/Denver:20250118T150000
LOCATION:
SUMMARY:Beginning Weaving - CLASS FULL
END:VEVENT
END:VCALENDAR
