BEGIN:VCALENDAR
VERSION:2.0
PRODID:-//carboncountydepotgallery.org//NONSGML kigkonsult.se iCalcreator 2
 .30.10//
CALSCALE:GREGORIAN
METHOD:PUBLISH
UID:079df7dc-c9dc-436c-bbee-fcbfe6d73eb1
X-WR-CALDESC:Decorate a tea towel with botanical stamps - fruit\, herbs and
  more! Beginner friendly - no experience necessary. Perfect for Mother’s D
 ay!\n\n$15 for CCAG members\, $20 for non-members\nTwo towels provided\, f
 eel free to bring more
X-WR-RELCALID:0d4b8e907d7f30a7ba18906aa9023819
X-WR-TIMEZONE:America/Denver
BEGIN:VTIMEZONE
TZID:America/Denver
BEGIN:STANDARD
TZNAME:MST
DTSTART:20241103T020000
TZOFFSETFROM:-0600
TZOFFSETTO:-0700
RDATE:20251102T020000
RDATE:20261101T020000
END:STANDARD
BEGIN:DAYLIGHT
TZNAME:MDT
DTSTART:20250309T020000
TZOFFSETFROM:-0700
TZOFFSETTO:-0600
RDATE:20260308T020000
END:DAYLIGHT
END:VTIMEZONE
BEGIN:VEVENT
UID:d541511e-0d2d-4e6a-a2e4-20ee53dbc48a
DTSTAMP:20260425T032303Z
DESCRIPTION:Decorate a tea towel with botanical stamps - fruit\, herbs and 
 more! Beginner friendly - no experience necessary. Perfect for Mother’s Da
 y!\n\n$15 for CCAG members\, $20 for non-members\nTwo towels provided\, fe
 el free to bring more
DTSTART;TZID=America/Denver:20250503T130000
DTEND;TZID=America/Denver:20250503T160000
LOCATION:
SUMMARY:Printed Tea Towels
END:VEVENT
END:VCALENDAR
