BEGIN:VCALENDAR
VERSION:2.0
PRODID:-//carboncountydepotgallery.org//NONSGML kigkonsult.se iCalcreator 2
 .30.10//
CALSCALE:GREGORIAN
METHOD:PUBLISH
UID:4ba372cf-8db3-495e-b23a-868115a537d1
X-WR-CALDESC:Join us for the reception and award ceremony announcing the wi
 nners of the High School Student Art Show. The award ceremony starts at 3 
 p.m. Light refreshments will be provided. This event is free and open to t
 he public.
X-WR-RELCALID:3cbdf26173369c59b93323466c3890eb
X-WR-TIMEZONE:America/Denver
BEGIN:VTIMEZONE
TZID:America/Denver
BEGIN:STANDARD
TZNAME:MST
DTSTART:20241103T020000
TZOFFSETFROM:-0600
TZOFFSETTO:-0700
RDATE:20251102T020000
RDATE:20261101T020000
END:STANDARD
BEGIN:DAYLIGHT
TZNAME:MDT
DTSTART:20250309T020000
TZOFFSETFROM:-0700
TZOFFSETTO:-0600
RDATE:20260308T020000
END:DAYLIGHT
END:VTIMEZONE
BEGIN:VEVENT
UID:9e173f0c-9f38-447f-ad49-cd23f55d04b9
DTSTAMP:20260425T032139Z
DESCRIPTION:Join us for the reception and award ceremony announcing the win
 ners of the High School Student Art Show. The award ceremony starts at 3 p
 .m. Light refreshments will be provided. This event is free and open to th
 e public.
DTSTART;TZID=America/Denver:20250504T140000
DTEND;TZID=America/Denver:20250504T160000
LOCATION:
SUMMARY:High School Student Art Show Reception & Award Ceremony
END:VEVENT
END:VCALENDAR
