BEGIN:VCALENDAR
VERSION:2.0
PRODID:-//carboncountydepotgallery.org//NONSGML kigkonsult.se iCalcreator 2
 .30.10//
CALSCALE:GREGORIAN
METHOD:PUBLISH
UID:95192e5f-2527-45e2-bab5-e1cf791749ff
X-WR-CALDESC:The Carbon County Arts Guild is excited to once again feature 
 the theme show for our members called\, 'Inspired By Song.' In the exhibit
 ion\, visitors will find a wide array of musical tunes represented\; anywh
 ere from classical to rock-n-roll to country. There are watercolor\, oil\,
  and acrylic paintings\, drawings\, mixed media pieces\, sculpture\, and c
 eramics. QR codes are on each wall tag so visitors can listen to the tunes
  as they view the artwork. \n\nA reception for the 'Inspired By Song' exhi
 bition will take place 2-6 p.m. Saturday\, June 14 during the Red Lodge Ar
 t Walk. Meet fellow artists and enjoy light refreshments.\n\nIn addition\,
  visit with batik artist Echo Ukrainetz and clayboard engraving artist Ron
  Ukrainetz while they demonstrate the processes they use. Both of these ar
 tists are participants in the 'Inspired By Song' exhibition.  \n\nThis exh
 ibition is organized by the Carbon County Arts Guild & Depot Gallery which
  is funded in part by coal severance taxes paid based upon coal mined in M
 ontana and deposited in Montana's cultural and aesthetic projects trust fu
 nd.\n\nThe Carbon County Arts Guild & Depot Gallery provides access to art
 \, supports artistic expression\, and encourages creative experiences for 
 the enrichment of our communities. \n\n \n
X-WR-RELCALID:47d1d11f41a5a29e3a67502538de15ce
X-WR-TIMEZONE:America/Denver
BEGIN:VTIMEZONE
TZID:America/Denver
BEGIN:STANDARD
TZNAME:MST
DTSTART:20241103T020000
TZOFFSETFROM:-0600
TZOFFSETTO:-0700
RDATE:20251102T020000
RDATE:20261101T020000
END:STANDARD
BEGIN:DAYLIGHT
TZNAME:MDT
DTSTART:20250309T020000
TZOFFSETFROM:-0700
TZOFFSETTO:-0600
RDATE:20260308T020000
END:DAYLIGHT
END:VTIMEZONE
BEGIN:VEVENT
UID:fc94507d-0891-4c76-9745-a4db480b4c3c
DTSTAMP:20260425T032119Z
DESCRIPTION:The Carbon County Arts Guild is excited to once again feature t
 he theme show for our members called\, 'Inspired By Song.' In the exhibiti
 on\, visitors will find a wide array of musical tunes represented\; anywhe
 re from classical to rock-n-roll to country. There are watercolor\, oil\, 
 and acrylic paintings\, drawings\, mixed media pieces\, sculpture\, and ce
 ramics. QR codes are on each wall tag so visitors can listen to the tunes 
 as they view the artwork. \n\nA reception for the 'Inspired By Song' exhib
 ition will take place 2-6 p.m. Saturday\, June 14 during the Red Lodge Art
  Walk. Meet fellow artists and enjoy light refreshments.\n\nIn addition\, 
 visit with batik artist Echo Ukrainetz and clayboard engraving artist Ron 
 Ukrainetz while they demonstrate the processes they use. Both of these art
 ists are participants in the 'Inspired By Song' exhibition.  \n\nThis exhi
 bition is organized by the Carbon County Arts Guild & Depot Gallery which 
 is funded in part by coal severance taxes paid based upon coal mined in Mo
 ntana and deposited in Montana's cultural and aesthetic projects trust fun
 d.\n\nThe Carbon County Arts Guild & Depot Gallery provides access to art\
 , supports artistic expression\, and encourages creative experiences for t
 he enrichment of our communities. \n\n \n
DTSTART;TZID=America/Denver:20250524T040000
DTEND;TZID=America/Denver:20250621T040001
LOCATION:
SUMMARY:'Inspired By Song'\, Guild Members Exhibition
END:VEVENT
END:VCALENDAR
