BEGIN:VCALENDAR
VERSION:2.0
PRODID:-//carboncountydepotgallery.org//NONSGML kigkonsult.se iCalcreator 2
 .30.10//
CALSCALE:GREGORIAN
METHOD:PUBLISH
UID:a106b36f-37ab-4493-b7b4-1c0c473407e1
X-WR-CALDESC:'Colors of the Wild' exhibition will be on view May 3 through 
 June 21\, 2025 in the north gallery at the Carbon County Arts Guild. \n\nL
 ynn is a contemporary Western artist known for her vibrant and colorful pa
 intings that capture the beauty of wildlife\, horses\, cowgirls and cowboy
 s\, and the western lifestyle. Her passion for art started at a young age\
 , and throughout her career\, she used her creative energy as a marketing 
 professional in the aerospace industry and later in her own small marketin
 g and web design firm.\n\nInspired by the beauty of Montana\, Lynn decided
  to follow her dreams and become a full-time artist. She creates stunning 
 works of art using traditional watercolors and Brusho® watercolor crystals
 \, which allow her to achieve rich\, vibrant hues. Lynn’s watercolors push
  the boundaries of the traditional medium as she utilizes new and innovati
 ve ways to display her work. She also uses alcohol inks to create unique a
 nd colorful abstract florals. Her love of color and passion for painting s
 hines through in each of her works\, which are created with high-quality m
 aterials and a keen eye for detail. When she isn’t painting\, Lynn enjoys 
 traveling with her life partner\, Jeff\, and drawing inspiration from the 
 beauty of the world around her.\n\nShield states\, “As a Western artist\, 
 I strive to capture the essence of the West in my bold and vibrant paintin
 gs. Inspired by the beauty of Montana\, my artwork features horses\, wildl
 ife\, cowgirls\, and cowboys. With non-traditional materials like Brusho® 
 crystal colors and alcohol inks\, I achieve unique color variations that r
 eflect my love of color and passion for painting. I infuse energy and exci
 tement into my pieces by incorporating techniques such as splashing\, spla
 ttering\, and dripping paint. I’m always excited to see what’s next!”\n\nA
  workshop in conjunction with Lynn's show will be on Saturday\, May 10. Fo
 r information check the website events calendar.\n\nThis exhibition is org
 anized by the Carbon County Arts Guild & Depot Gallery which is funded in 
 part by coal severance taxes paid based upon coal mined in Montana and dep
 osited in Montana's cultural and aesthetic projects trust fund.\n\nThe Car
 bon County Arts Guild & Depot Gallery provides access to art\, supports ar
 tistic expression\, and encourages creative experiences for the enrichment
  of our communities.\n
X-WR-RELCALID:bac93dc17e4621d60f8e41e049d3b81c
X-WR-TIMEZONE:America/Denver
BEGIN:VTIMEZONE
TZID:America/Denver
BEGIN:STANDARD
TZNAME:MST
DTSTART:20241103T020000
TZOFFSETFROM:-0600
TZOFFSETTO:-0700
RDATE:20251102T020000
RDATE:20261101T020000
END:STANDARD
BEGIN:DAYLIGHT
TZNAME:MDT
DTSTART:20250309T020000
TZOFFSETFROM:-0700
TZOFFSETTO:-0600
RDATE:20260308T020000
END:DAYLIGHT
END:VTIMEZONE
BEGIN:VEVENT
UID:4e7c3b67-4e35-46c0-b429-1474ef000718
DTSTAMP:20260425T032140Z
DESCRIPTION:'Colors of the Wild' exhibition will be on view May 3 through J
 une 21\, 2025 in the north gallery at the Carbon County Arts Guild. \n\nLy
 nn is a contemporary Western artist known for her vibrant and colorful pai
 ntings that capture the beauty of wildlife\, horses\, cowgirls and cowboys
 \, and the western lifestyle. Her passion for art started at a young age\,
  and throughout her career\, she used her creative energy as a marketing p
 rofessional in the aerospace industry and later in her own small marketing
  and web design firm.\n\nInspired by the beauty of Montana\, Lynn decided 
 to follow her dreams and become a full-time artist. She creates stunning w
 orks of art using traditional watercolors and Brusho® watercolor crystals\
 , which allow her to achieve rich\, vibrant hues. Lynn’s watercolors push 
 the boundaries of the traditional medium as she utilizes new and innovativ
 e ways to display her work. She also uses alcohol inks to create unique an
 d colorful abstract florals. Her love of color and passion for painting sh
 ines through in each of her works\, which are created with high-quality ma
 terials and a keen eye for detail. When she isn’t painting\, Lynn enjoys t
 raveling with her life partner\, Jeff\, and drawing inspiration from the b
 eauty of the world around her.\n\nShield states\, “As a Western artist\, I
  strive to capture the essence of the West in my bold and vibrant painting
 s. Inspired by the beauty of Montana\, my artwork features horses\, wildli
 fe\, cowgirls\, and cowboys. With non-traditional materials like Brusho® c
 rystal colors and alcohol inks\, I achieve unique color variations that re
 flect my love of color and passion for painting. I infuse energy and excit
 ement into my pieces by incorporating techniques such as splashing\, splat
 tering\, and dripping paint. I’m always excited to see what’s next!”\n\nA 
 workshop in conjunction with Lynn's show will be on Saturday\, May 10. For
  information check the website events calendar.\n\nThis exhibition is orga
 nized by the Carbon County Arts Guild & Depot Gallery which is funded in p
 art by coal severance taxes paid based upon coal mined in Montana and depo
 sited in Montana's cultural and aesthetic projects trust fund.\n\nThe Carb
 on County Arts Guild & Depot Gallery provides access to art\, supports art
 istic expression\, and encourages creative experiences for the enrichment 
 of our communities.\n
DTSTART;TZID=America/Denver:20250503T040000
DTEND;TZID=America/Denver:20250621T040001
LOCATION:
SUMMARY:Colors of the Wild\, Art by Lynn Shield
END:VEVENT
END:VCALENDAR
